BEGIN:VCALENDAR
VERSION:2.0
PRODID:-//reigen.at - ECPv6.0.12//NONSGML v1.0//EN
CALSCALE:GREGORIAN
METHOD:PUBLISH
X-ORIGINAL-URL:https://www.reigen.at
X-WR-CALDESC:Veranstaltungen für reigen.at
REFRESH-INTERVAL;VALUE=DURATION:PT1H
X-Robots-Tag:noindex
X-PUBLISHED-TTL:PT1H
BEGIN:VTIMEZONE
TZID:Europe/Berlin
BEGIN:DAYLIGHT
TZOFFSETFROM:+0100
TZOFFSETTO:+0200
TZNAME:CEST
DTSTART:20230326T010000
END:DAYLIGHT
BEGIN:STANDARD
TZOFFSETFROM:+0200
TZOFFSETTO:+0100
TZNAME:CET
DTSTART:20231029T010000
END:STANDARD
END:VTIMEZONE
BEGIN:VEVENT
DTSTART;TZID=Europe/Berlin:20231123T203000
DTEND;TZID=Europe/Berlin:20231123T203000
DTSTAMP:20260420T074936
CREATED:20230511T235220Z
LAST-MODIFIED:20231122T120359Z
UID:1691-1700771400-1700771400@www.reigen.at
SUMMARY:VARGAS BLUES BAND  ABGESAGT!!
DESCRIPTION:Soeben haben wir von der Agentur folgende Mitteilung erhalten:\nWir müssen leider das Konzert der Vargas Blues Band absagen. Javier Vargas hat seit gestern extreme Rückenschmerzen. Der Arzt\, bei dem er gestern war\, hat ihm dringend davon abgeraten so auf die Bühne zu gehen und auch die langen Fahrten im Van von Auftrittsort zu Auftrittsort sind eine Belastung für seinen Rücken die er unbedingt vermeiden sollte. Er soll sich mit dem Rücken in Behandlung begeben. Deshalb fliegt er jetzt zurück nach Madrid\, wo er wohnt\, und lässt sich dort behandeln. \nWir bedauern… \nDer Stil von Javier Vargas und seiner Band erinnert einerseits an den großen Stevie Ray Vaughan\, überrascht aber auch mit Latin Sounds und Elementen des Flamenco\, die sie mit dem Vokabular des Blues und Rock verbinden. Ein erfrischender Mix aus Blues\, Rock & Latin\, der in der langen Karriere der Band auch auf mehr als 20 veröffentlichten Alben zu hören ist. Die Band arbeitete dabei mit so unterschiedlichen Musikern wie Chris Rea\, Junior Wells\, Carey Bell\, Louisiana Red\, Larry McCray & Carlos Santana. Santana lud Javier mehrfach bei seinen Konzerten als Gast auf die Bühne ein.\nJohn Byron Jagger hat sein erstes Soloalbum veröffentlicht. Das von Javier Vargas produzierte Werk wurde von \nMICK JAGGER jetzt schon hochgelobt. Er spricht von "fantastischen Songs die sein Neffe mit großer Leidenschaft singt."\n\nJavier Vargas – Guitar\nfeat. John Byron Jagger - Vocals\nLuis Mayo - Bass\, Vocals & Accoustic Guitar\nPeter Kunst - Drums & vocals\nÁlvaro Tarquino Chevere - Percusión
URL:https://www.reigen.at/event/vargas-blues-band-special-guest-john-byron-jagger/
LOCATION:REIGEN LIVE\, Hadikgasse 62\, Wien\, 1140\, Österreich
ATTACH;FMTTYPE=image/jpeg:https://www.reigen.at/wp-content/uploads/2023/05/Vargas-Jagger-im-Reigen2019-scaled.jpg
END:VEVENT
END:VCALENDAR