BEGIN:VCALENDAR
VERSION:2.0
PRODID:-//reigen.at - ECPv6.0.12//NONSGML v1.0//EN
CALSCALE:GREGORIAN
METHOD:PUBLISH
X-ORIGINAL-URL:https://www.reigen.at
X-WR-CALDESC:Veranstaltungen für reigen.at
REFRESH-INTERVAL;VALUE=DURATION:PT1H
X-Robots-Tag:noindex
X-PUBLISHED-TTL:PT1H
BEGIN:VTIMEZONE
TZID:Europe/Berlin
BEGIN:DAYLIGHT
TZOFFSETFROM:+0100
TZOFFSETTO:+0200
TZNAME:CEST
DTSTART:20230326T010000
END:DAYLIGHT
BEGIN:STANDARD
TZOFFSETFROM:+0200
TZOFFSETTO:+0100
TZNAME:CET
DTSTART:20231029T010000
END:STANDARD
END:VTIMEZONE
BEGIN:VEVENT
DTSTART;TZID=Europe/Berlin:20231124T203000
DTEND;TZID=Europe/Berlin:20231124T223000
DTSTAMP:20260420T074946
CREATED:20230526T112001Z
LAST-MODIFIED:20231003T190731Z
UID:1739-1700857800-1700865000@www.reigen.at
SUMMARY:Paul Lamb and the Roosevelt Houserockers
DESCRIPTION:PAUL LAMB and the ROOSEVELT HOUSEROCKERS  – rough and straight Blues \n Vier Musiker spielen einen Abend lang heißen Chicagoblues.Seit 2013 gibt es ein- bis zweimal im Jahr exzellenten Blues in einer speziellen Kombination zu hören: der britische Mundharmonikameister PAUL LAMB musiziert mit den ROOSEVELT HOUSEROCKERS\, Österreichs hardest kicking Chicagobluesband. \nPAUL LAMB (*1954\, UK) ist einer der besten Mundharmonikaspieler Europas. Seine Vorbilder sind Sonny Terry und Big Walter Horton – man kann beide Einflüsse sehr schön aus seinem Spielen heraushören. Seit den 1980ern tourt Paul mit seiner Band\, den Kingsnakes\, rund um den Globus.                                                                                       Die ROOSEVELT HOUSEROCKERS (*2009) sind die zwei Brunnbauerbrüder Jörg und Timo und der Gitarrist Andreas Weilhartner. Mit 2 Gitarren und einem Schlagwerk wird mächtig Dampf gemacht. So wie einst Hounddog Taylor und andere\, die sich keinen Bassisten leisten wollten oder konnten… \n„It’s a real treat to hear Paul in this setting“ (Blues Matters Magazine\, UK 2021) \n„Ein pulsierendes Energiegemisch\, das dem Blues in vielen seiner Spielarten huldigt!“ (OÖN\, 9-20) \nPAUL LAMB – hca\, vocals \nTIMO BRUNNBAUER – guitars\, vocals \nJÖRG BRUNNBAUER – drums\, vocals \nANDREAS WEILHARTNER – guitars\, vocals \naktuelle CD: Paul Lamb & Roosevelt Houserockers Live „Walk On“
URL:https://www.reigen.at/event/paul-lamb-and-the-roosevelt-houserockers/
LOCATION:REIGEN LIVE\, Hadikgasse 62\, Wien\, 1140\, Österreich
ATTACH;FMTTYPE=image/jpeg:https://www.reigen.at/wp-content/uploads/2023/05/lamb_aleks-pruenner1.jpg
END:VEVENT
END:VCALENDAR