BEGIN:VCALENDAR
VERSION:2.0
PRODID:-//reigen.at - ECPv6.0.12//NONSGML v1.0//EN
CALSCALE:GREGORIAN
METHOD:PUBLISH
X-ORIGINAL-URL:https://www.reigen.at
X-WR-CALDESC:Veranstaltungen für reigen.at
REFRESH-INTERVAL;VALUE=DURATION:PT1H
X-Robots-Tag:noindex
X-PUBLISHED-TTL:PT1H
BEGIN:VTIMEZONE
TZID:Europe/Berlin
BEGIN:DAYLIGHT
TZOFFSETFROM:+0100
TZOFFSETTO:+0200
TZNAME:CEST
DTSTART:20230326T010000
END:DAYLIGHT
BEGIN:STANDARD
TZOFFSETFROM:+0200
TZOFFSETTO:+0100
TZNAME:CET
DTSTART:20231029T010000
END:STANDARD
END:VTIMEZONE
BEGIN:VEVENT
DTSTART;TZID=Europe/Berlin:20231125T203000
DTEND;TZID=Europe/Berlin:20231125T234500
DTSTAMP:20260420T074946
CREATED:20230316T194709Z
LAST-MODIFIED:20230712T230651Z
UID:976-1700944200-1700955900@www.reigen.at
SUMMARY:Aynsley Lister
DESCRIPTION:Aynsley Lister has been at the top of the Blues scene for over two decades\, billed as one of the most exciting contemporary Blues guitarists around today.Known not only for his exceptional guitar playing\, he is also a highly regarded songwriter whose passion for music crosses genres\, effortlessly combining blues\, soul\, Americana\, rock and sometimes even pop elements. \nOn this tour\, Aynsley presents his new studio album “Along For The Ride”\, released on November 11th 2022 via his own label Straight Talkin’ Records\, which he co-founded with his wife Stephanie. The new release offers 13 songs – stories from everyday life about relationships\, loss\, feelings and life itself in all its facets\, embedded in catchy melodies\, rocking riffs\, virtuoso guitar solos and an energetic mixture of modern elements and traditional blues. \n  \n \n \nhttps://youtu.be/gWJUn86oGmg
URL:https://www.reigen.at/event/aynsley-lister/
LOCATION:REIGEN LIVE\, Hadikgasse 62\, Wien\, 1140\, Österreich
ATTACH;FMTTYPE=image/jpeg:https://www.reigen.at/wp-content/uploads/2023/03/20231125_01.jpg
END:VEVENT
END:VCALENDAR