BEGIN:VCALENDAR
VERSION:2.0
PRODID:-//reigen.at - ECPv6.0.12//NONSGML v1.0//EN
CALSCALE:GREGORIAN
METHOD:PUBLISH
X-ORIGINAL-URL:https://www.reigen.at
X-WR-CALDESC:Veranstaltungen für reigen.at
REFRESH-INTERVAL;VALUE=DURATION:PT1H
X-Robots-Tag:noindex
X-PUBLISHED-TTL:PT1H
BEGIN:VTIMEZONE
TZID:Europe/Berlin
BEGIN:DAYLIGHT
TZOFFSETFROM:+0100
TZOFFSETTO:+0200
TZNAME:CEST
DTSTART:20230326T010000
END:DAYLIGHT
BEGIN:STANDARD
TZOFFSETFROM:+0200
TZOFFSETTO:+0100
TZNAME:CET
DTSTART:20231029T010000
END:STANDARD
END:VTIMEZONE
BEGIN:VEVENT
DTSTART;TZID=Europe/Berlin:20231128T203000
DTEND;TZID=Europe/Berlin:20231128T233000
DTSTAMP:20260420T061258
CREATED:20230830T223306Z
LAST-MODIFIED:20230911T112643Z
UID:2210-1701203400-1701214200@www.reigen.at
SUMMARY:Mulberry Sky
DESCRIPTION:Der Himmel leuchtete intensiv\, maulbeerig rot-violett – da traf es die Bande wie ein Blitz und ihre Mission hatte endlich einen Namen: Mulberry Sky.\nSeither ziehen Catherine van Bruce (Vocals)\, Lucky Lerchl (Bass)\, Simon Petrosa (Drums) & Dom Raygun (Gitarre) umher\, um der Welt ihren blues-getränkten Rock um die Ohren zu schmettern. Kein Song ist wie der andere\, mal verbinden sie Tiefe mit eher softem Rock\, “Wumms” mit melodiösen Parts und Schmerz mit filigranen Gitarrensoli. Eine gut abgeschmeckte Mischung aus Classic Rock\, Bluesrock und ein Hauch Stoner lässt das Publikum in viele Nischen des Rock blinzeln. Inhaltlich streuen Mulberry Sky gerne Salz in die Wunde und rufen dazu auf\, sich selbst zu verwirklichen und Altlasten abzuschütteln. \nDas Quartett lebt den Traum einer “Do-it-yourself”-Band. Alle Kompositionen und Texte stammen aus ihrer Feder\, im eigenen Studio bei Schlagzeuger Simon Petrosa im Keller wurden die Songs schließlich selbst aufgenommen und gemischt. Dabei legt die Band großen Wert auf Details und funktioniert für den perfekten Sound auch schon mal einen Heizlüfter zum Percussion-Instrument um.
URL:https://www.reigen.at/event/mulberry-sky/
LOCATION:REIGEN LIVE\, Hadikgasse 62\, Wien\, 1140\, Österreich
ATTACH;FMTTYPE=image/jpeg:https://www.reigen.at/wp-content/uploads/2023/08/Mulberry-Sky-Pressefoto-2023-scaled.jpg
END:VEVENT
END:VCALENDAR