BEGIN:VCALENDAR
VERSION:2.0
PRODID:-//reigen.at - ECPv6.0.12//NONSGML v1.0//EN
CALSCALE:GREGORIAN
METHOD:PUBLISH
X-WR-CALNAME:reigen.at
X-ORIGINAL-URL:https://www.reigen.at
X-WR-CALDESC:Veranstaltungen für reigen.at
REFRESH-INTERVAL;VALUE=DURATION:PT1H
X-Robots-Tag:noindex
X-PUBLISHED-TTL:PT1H
BEGIN:VTIMEZONE
TZID:Europe/Berlin
BEGIN:DAYLIGHT
TZOFFSETFROM:+0100
TZOFFSETTO:+0200
TZNAME:CEST
DTSTART:20230326T010000
END:DAYLIGHT
BEGIN:STANDARD
TZOFFSETFROM:+0200
TZOFFSETTO:+0100
TZNAME:CET
DTSTART:20231029T010000
END:STANDARD
END:VTIMEZONE
BEGIN:VEVENT
DTSTART;TZID=Europe/Berlin:20231130T203000
DTEND;TZID=Europe/Berlin:20231130T233000
DTSTAMP:20260420T061129
CREATED:20231103T161216Z
LAST-MODIFIED:20231105T221159Z
UID:2486-1701376200-1701387000@www.reigen.at
SUMMARY:Jam Session mit "Strand ohne Palme"
DESCRIPTION:Der Winter wird noch lang genug.  Deswegen holen wir am 30.11. den Strand zurück auf die Bühne (ohne Palme).  Das junge Ensemble steht auf Disco\, Funk und Pop – and don’t forget the Jazz – sonst ist’s fad. Geschrieben wird über das kleine Alltägliche und die großen Weltprobleme\, a bisserl Grantln liegt im Wiener Blut. Schaut vorbei und bringt eure Instrumente mit\, im Anschluss wird gejammed! \n„Strand ohne Palme“ \nVocals: Anna Kapitany \nGitarren: Elias Kapitany / Paul Toth \nDrums: Max Rebensteiner \nBass: Marie-Christin Konrath \n  \n 
URL:https://www.reigen.at/event/session-2/
LOCATION:REIGEN LIVE\, Hadikgasse 62\, Wien\, 1140\, Österreich
ATTACH;FMTTYPE=image/jpeg:https://www.reigen.at/wp-content/uploads/2023/11/Session-30.11.2023.jpg
END:VEVENT
END:VCALENDAR