BEGIN:VCALENDAR
VERSION:2.0
PRODID:-//reigen.at - ECPv6.0.12//NONSGML v1.0//EN
CALSCALE:GREGORIAN
METHOD:PUBLISH
X-ORIGINAL-URL:https://www.reigen.at
X-WR-CALDESC:Veranstaltungen für reigen.at
REFRESH-INTERVAL;VALUE=DURATION:PT1H
X-Robots-Tag:noindex
X-PUBLISHED-TTL:PT1H
BEGIN:VTIMEZONE
TZID:Europe/Berlin
BEGIN:DAYLIGHT
TZOFFSETFROM:+0100
TZOFFSETTO:+0200
TZNAME:CEST
DTSTART:20240331T010000
END:DAYLIGHT
BEGIN:STANDARD
TZOFFSETFROM:+0200
TZOFFSETTO:+0100
TZNAME:CET
DTSTART:20241027T010000
END:STANDARD
END:VTIMEZONE
BEGIN:VEVENT
DTSTART;TZID=Europe/Berlin:20240210T203000
DTEND;TZID=Europe/Berlin:20240210T233000
DTSTAMP:20260420T030516
CREATED:20231119T134244Z
LAST-MODIFIED:20231120T212300Z
UID:2514-1707597000-1707607800@www.reigen.at
SUMMARY:The New Ancients
DESCRIPTION:Wir sind ein Team das zumindest altersmäßig mit den (jetzt wieder in aller Munde) Rolling Stones  mithalten kann. Erfahren aus verschiedenen Bands  gibt es bei uns  Rock\, Blues und Klassiker der 70er  sowie natürlich Songs unserer Altersgenossen zu hören. Eben auch der Stones. Wenn das genau die Musik ist\, die Sie gerne live erleben wollen dann sind Sie bei uns richtig. Sollten Sie aber vorher noch etwas mehr über uns wissen wollen dann bitte nur einen Blick in die Homepage www.newancients.at  werfen und schon geht`s los. Wir freuen uns auf alle Fälle darauf\, für Sie zu spielen.
URL:https://www.reigen.at/event/the-new-ancients/
LOCATION:REIGEN LIVE\, Hadikgasse 62\, Wien\, 1140\, Österreich
ATTACH;FMTTYPE=image/jpeg:https://www.reigen.at/wp-content/uploads/2023/11/The-New-Ancients.jpg
END:VEVENT
END:VCALENDAR