BEGIN:VCALENDAR
VERSION:2.0
PRODID:-//reigen.at - ECPv6.0.12//NONSGML v1.0//EN
CALSCALE:GREGORIAN
METHOD:PUBLISH
X-WR-CALNAME:reigen.at
X-ORIGINAL-URL:https://www.reigen.at
X-WR-CALDESC:Veranstaltungen für reigen.at
REFRESH-INTERVAL;VALUE=DURATION:PT1H
X-Robots-Tag:noindex
X-PUBLISHED-TTL:PT1H
BEGIN:VTIMEZONE
TZID:Europe/Berlin
BEGIN:DAYLIGHT
TZOFFSETFROM:+0100
TZOFFSETTO:+0200
TZNAME:CEST
DTSTART:20240331T010000
END:DAYLIGHT
BEGIN:STANDARD
TZOFFSETFROM:+0200
TZOFFSETTO:+0100
TZNAME:CET
DTSTART:20241027T010000
END:STANDARD
END:VTIMEZONE
BEGIN:VEVENT
DTSTART;TZID=Europe/Berlin:20240319T200000
DTEND;TZID=Europe/Berlin:20240319T233000
DTSTAMP:20260420T012015
CREATED:20230806T004520Z
LAST-MODIFIED:20240312T205321Z
UID:2086-1710878400-1710891000@www.reigen.at
SUMMARY:Open House Blues Session
DESCRIPTION:Wie jedes Jahr wird der ViennaBluesSpring mit der Open House Blues Session bei freiem Eintritteröffnet. Der traditionelle Treffpunkt der Wiener Blues Szene vor Beginn des Festivals. Die Sessionleitung übernimmt wieder Herby Dunkel. Eine Vielzahl an Bands und Musikern geben einen Ausblick auf die kommenden Wochen und präsentieren die Vielfalt der heimischen Szene. So manche altbekannte Größen wie auch neue Gesichter sorgen für einen aufregenden Abend. \n\nHerby & The Mudcats\nPeter Kern\nScheinbar\nDanny Chicago\nSebastian Schmidt Band\nRudi Biber & Band\nJoe Ditty & The Big Joke\nThe Soulmates\nHokum Pokum\nThe Goodhouse\nTin Rockets\nPosch & Dolezal & Haselsteiner\nStephan Kutscher\nPaul Chuey & Isaac Lopez\n\n 
URL:https://www.reigen.at/event/open-house-blues-session/
ATTACH;FMTTYPE=image/jpeg:https://www.reigen.at/wp-content/uploads/2023/08/herby-dunkel.jpg
END:VEVENT
END:VCALENDAR