BEGIN:VCALENDAR
VERSION:2.0
PRODID:-//reigen.at - ECPv6.0.12//NONSGML v1.0//EN
CALSCALE:GREGORIAN
METHOD:PUBLISH
X-ORIGINAL-URL:https://www.reigen.at
X-WR-CALDESC:Veranstaltungen für reigen.at
REFRESH-INTERVAL;VALUE=DURATION:PT1H
X-Robots-Tag:noindex
X-PUBLISHED-TTL:PT1H
BEGIN:VTIMEZONE
TZID:Europe/Berlin
BEGIN:DAYLIGHT
TZOFFSETFROM:+0100
TZOFFSETTO:+0200
TZNAME:CEST
DTSTART:20240331T010000
END:DAYLIGHT
BEGIN:STANDARD
TZOFFSETFROM:+0200
TZOFFSETTO:+0100
TZNAME:CET
DTSTART:20241027T010000
END:STANDARD
END:VTIMEZONE
BEGIN:VEVENT
DTSTART;TZID=Europe/Berlin:20240327T203000
DTEND;TZID=Europe/Berlin:20240327T233000
DTSTAMP:20260420T024908
CREATED:20240101T144653Z
LAST-MODIFIED:20240101T154710Z
UID:2749-1711571400-1711582200@www.reigen.at
SUMMARY:Leelah Sky - Schilling Doppelkonzert
DESCRIPTION:LEELAH SKY soulicious earfood\nLEELAH SKY schafft es\, Soul\, Pop\, Blues und Jazz so zu kombinieren\, dass die Frage nach dem Stil obsolet wird. Die Salzburger Sängerin und Pianistin setzt dabei auf powervoll-fragile Stimmakrobatik und dampfende Beats\, auf geschmackvoll arrangierte und eingängige Eigenkompositionen\, die die Zuhörer dort berühren\, wo Musik berühren soll – im Herzen. Als Solo-Act -Stimme und Klavier pur\, im Duo mit Beatbox\, im Trio als ‚pocketrockband‘ mit Gitarre oder in voller Bandbesetzung – gemeinsam mit ihren multiinstrumentalen Partnern zaubert die Künstlerin mit ukrainischen Wurzeln\, die u.a. schon mit Bobby McFerrin\, Christian Kolonovits\, Richard Österreicher und Alexander Goebel zusammenarbeitete\, ein faszinierendes musikalisches Akustik-Feuerwerk auf die Bühne\, das seinesgleichen sucht.\nIm Herbst 2016 erschien LEELAHs Debut-Album ‚second life’ bei homebase records. 2024 folgt das 2. Album. \n  \n\n \nSCHILLING \nEs gibt sie also doch\, diese Währung\, die nie inflationär wird\, also unverändert hart bleibt\, keinen Schwankungen ausgesetzt ist und Generationen überdauert – gute Musik!\nVoraussetzungen für ebendiese sind höchste musikalische Professionalität und eine unvergleichliche Stimme\, die aussagekräftige Texte mit viel Gefühl und authentisch\, dadurch also glaubwürdig interpretiert.\nManchmal dauert es allerdings einige Zeit\, bis etwas Gutes entsteht. Und nur\, wenn sich\, wie in diesem Fall\, fünf professionelle Musik-Desperados auf einer gemeinsamen Spielwiese finden\, nicht mit sich handeln lassen und nur spielen\, was sie wollen\, sind alle Voraussetzungen für eine Supergroup erfüllt – es entsteht etwas richtig Gutes: SCHILLING \nSTEPHAN GLEIXNER: STIMME\, CHOR\, SONGWRITING \nGORAN MIKULEC: GITARRE\, BANJO\, SONGWRITING \nWILLI LANGER: Bass \nCHRISTIAN WEGSCHEIDER: TASTEN \nCHRISTIAN ZIEGELWANGER: SCHLAGZEUG UND PERCUSSION \n  \n 
URL:https://www.reigen.at/event/leelah-sky-und-schilling/
LOCATION:REIGEN LIVE\, Hadikgasse 62\, Wien\, 1140\, Österreich
ATTACH;FMTTYPE=image/jpeg:https://www.reigen.at/wp-content/uploads/2024/01/leelah.jpg
END:VEVENT
END:VCALENDAR