BEGIN:VCALENDAR
VERSION:2.0
PRODID:-//reigen.at - ECPv6.0.12//NONSGML v1.0//EN
CALSCALE:GREGORIAN
METHOD:PUBLISH
X-WR-CALNAME:reigen.at
X-ORIGINAL-URL:https://www.reigen.at
X-WR-CALDESC:Veranstaltungen für reigen.at
REFRESH-INTERVAL;VALUE=DURATION:PT1H
X-Robots-Tag:noindex
X-PUBLISHED-TTL:PT1H
BEGIN:VTIMEZONE
TZID:Europe/Berlin
BEGIN:DAYLIGHT
TZOFFSETFROM:+0100
TZOFFSETTO:+0200
TZNAME:CEST
DTSTART:20240331T010000
END:DAYLIGHT
BEGIN:STANDARD
TZOFFSETFROM:+0200
TZOFFSETTO:+0100
TZNAME:CET
DTSTART:20241027T010000
END:STANDARD
END:VTIMEZONE
BEGIN:VEVENT
DTSTART;TZID=Europe/Berlin:20240404T203000
DTEND;TZID=Europe/Berlin:20240404T233000
DTSTAMP:20260420T000505
CREATED:20230806T004716Z
LAST-MODIFIED:20240217T144554Z
UID:2088-1712262600-1712273400@www.reigen.at
SUMMARY:Ulich Ellison Band
DESCRIPTION:Spätestens seit Ulrich Ellison vor Jahren seine Zelte in Dallas\, Texas aufgeschlagen hat\, ist er international zu einem „household name“ des elektrischen Blues(rock) geworden. Zahlreiche Tonträger und Auszeichnungen – etwa des DownBeat Magazine – begleiten den Weg des wandlungsfähigen und kreativen Gitarristen\, Sängers und Songwriters. Seine fast selbstverständlich anmutende Virtuosität\, gepaart mit einer selten gewordenen Stage-Präsenz\, begeistert nicht „nur“ das weltweite Publikum. Mittlerweile wird der Österreicher auch von Musikern sehr geschätzt. \nNew Single „DO WHAT YOUR MAMA SAYS“ out now! \nDas neue Album (Release im Frühjahr 2024) hat mit „Do What Your Mama Says“ bereits eine extrem starke Single am Start\, bei der kein Geringerer als Kenny Aronoff die Schlagstöcke schwingt (Joe Satriani\, Jon Bon Jovi\, John Fogerty\, Smashing Pumpkins\, etc.). Die 2.te Single „Everything And Nothing At All“ sprengt den Rahmen des Bluesrock-Klischees and ist ein mächtiges Statement zu den aktuellen Ereignissen in der Welt. Co-Produzent des Albums ist Helmut Bibl\, der zu Österreichs Topaddressen in Sachen Rockgitarre gehört. (Falco\, Supermax\, Drahdiwaberl\, Andi Baum\, etc.). Mit ihm verbindet Ellison mittlerweile eine jahrzehntelange Freundschaft seit den frühen Anfängen und Studienjahren in Wien. So gesehen ist die Zusammenarbeit mit Bbibl auch ein „Heimkommen“ nach all den musikalischen Weltreisen. \nSeit 2020 ist Ellison außerdem Gründer und CEO der „Total Guitar Transformation“ Academy\, die Gitarristen weltweit befähigt\, die beste Version ihrer selbst zu werden. \n \n \n \n  \n 
URL:https://www.reigen.at/event/ulich-ellison/
LOCATION:REIGEN LIVE\, Hadikgasse 62\, Wien\, 1140\, Österreich
ATTACH;FMTTYPE=image/jpeg:https://www.reigen.at/wp-content/uploads/2023/08/ulrich_ellison_001_copyright_dietmar_hoscher-1ccd9513.jpg
END:VEVENT
END:VCALENDAR