BEGIN:VCALENDAR
VERSION:2.0
PRODID:-//reigen.at - ECPv6.0.12//NONSGML v1.0//EN
CALSCALE:GREGORIAN
METHOD:PUBLISH
X-ORIGINAL-URL:https://www.reigen.at
X-WR-CALDESC:Veranstaltungen für reigen.at
REFRESH-INTERVAL;VALUE=DURATION:PT1H
X-Robots-Tag:noindex
X-PUBLISHED-TTL:PT1H
BEGIN:VTIMEZONE
TZID:Europe/Berlin
BEGIN:DAYLIGHT
TZOFFSETFROM:+0100
TZOFFSETTO:+0200
TZNAME:CEST
DTSTART:20240331T010000
END:DAYLIGHT
BEGIN:STANDARD
TZOFFSETFROM:+0200
TZOFFSETTO:+0100
TZNAME:CET
DTSTART:20241027T010000
END:STANDARD
END:VTIMEZONE
BEGIN:VEVENT
DTSTART;TZID=Europe/Berlin:20240412T200000
DTEND;TZID=Europe/Berlin:20240412T233000
DTSTAMP:20260420T000757
CREATED:20230825T205031Z
LAST-MODIFIED:20231224T114410Z
UID:2190-1712952000-1712964600@www.reigen.at
SUMMARY:Kispál és a Borz\, Lovasi András und Death Star Production
DESCRIPTION:spresented by death star production \nKarten bitte nur mit diesem link bestellen! Der Reigen hat keine karten! \nPlease order tickets only with the link below! \nFB event: \nhttps://www.facebook.com/events/7639802402715205\n\npresale link:\nhttps://www.ticketino.com/de/event/kisp-l-s-a-borz-b-cs/185414
URL:https://www.reigen.at/event/death-star-production/
LOCATION:REIGEN LIVE\, Hadikgasse 62\, Wien\, 1140\, Österreich
ATTACH;FMTTYPE=image/jpeg:https://www.reigen.at/wp-content/uploads/2023/08/kispbecscover.jpg
END:VEVENT
END:VCALENDAR