BEGIN:VCALENDAR
VERSION:2.0
PRODID:-//reigen.at - ECPv6.0.12//NONSGML v1.0//EN
CALSCALE:GREGORIAN
METHOD:PUBLISH
X-WR-CALNAME:reigen.at
X-ORIGINAL-URL:https://www.reigen.at
X-WR-CALDESC:Veranstaltungen für reigen.at
REFRESH-INTERVAL;VALUE=DURATION:PT1H
X-Robots-Tag:noindex
X-PUBLISHED-TTL:PT1H
BEGIN:VTIMEZONE
TZID:Europe/Berlin
BEGIN:DAYLIGHT
TZOFFSETFROM:+0100
TZOFFSETTO:+0200
TZNAME:CEST
DTSTART:20240331T010000
END:DAYLIGHT
BEGIN:STANDARD
TZOFFSETFROM:+0200
TZOFFSETTO:+0100
TZNAME:CET
DTSTART:20241027T010000
END:STANDARD
END:VTIMEZONE
BEGIN:VEVENT
DTSTART;TZID=Europe/Berlin:20240413T203000
DTEND;TZID=Europe/Berlin:20240413T233000
DTSTAMP:20260420T010518
CREATED:20230806T005005Z
LAST-MODIFIED:20230806T121916Z
UID:2093-1713040200-1713051000@www.reigen.at
SUMMARY:Zed Mitchell  Quartet
DESCRIPTION:Das Warten hat endlich ein Ende: Zed Mitchell meldet sich mit viel Schwung und Heiterkeit zurück bei seinen Fans und allen Musikliebhabern! Denn mit „Ha Ha Ha Ha…..“ veröffentlicht der Gitarrenmeister sein heiß erwartetes achtes Studioalbum! Und die Freude eines der besten Gitarristen in Europa zeigt sich nicht nur im Albumtitel\, sondern auf jedem der 12 Tracks. Mehr als ein Jahr hat der musikalische Tausendsassa in seinem Düsseldorfer Blue Eyes Studio am neuen Album gearbeitet… mit einem Ergebnis\, das sich hören lassen kann. Flott beginnt das Album mit dem gleichnamigen Song „Ha Ha Ha“.\nEs klingt\, als schwelge Zed Mitchell in Erinnerungen an großartige Konzerte und volle Clubs. Achtsame Musikliebhaber aber bemerken: In diese Melancholie mischt sich schnell ein frischer Sound\, ganz so\, als wolle Zed Mitchell seine Fans auffordern\, endlich wieder gemeinsame Glücksmomente zu kreieren und besonders: Gemeinsam zu lachen! Diesen Optimismus versprüht der Song und berührt auf direktem Weg Herz und Seele. Mindestens genauso schnell zeigen auch die nächsten Tracks ihr Können. Ob ruhig und nostalgisch\, ob sanft oder verträumt: Erneut zeigt der Saitenmagier Mitchell\, wie vielfältig seine Gitarren klingen und wie kreativ ein Mensch mit Notenleiter und Harmonien umgehen kann.
URL:https://www.reigen.at/event/zed-mitchell-quartet/
LOCATION:REIGEN LIVE\, Hadikgasse 62\, Wien\, 1140\, Österreich
ATTACH;FMTTYPE=image/jpeg:https://www.reigen.at/wp-content/uploads/2023/08/Zed-Mitchel-22-09-21-231-©Manfred_Pollert.jpeg
END:VEVENT
END:VCALENDAR