BEGIN:VCALENDAR
VERSION:2.0
PRODID:-//reigen.at - ECPv6.0.12//NONSGML v1.0//EN
CALSCALE:GREGORIAN
METHOD:PUBLISH
X-WR-CALNAME:reigen.at
X-ORIGINAL-URL:https://www.reigen.at
X-WR-CALDESC:Veranstaltungen für reigen.at
REFRESH-INTERVAL;VALUE=DURATION:PT1H
X-Robots-Tag:noindex
X-PUBLISHED-TTL:PT1H
BEGIN:VTIMEZONE
TZID:Europe/Berlin
BEGIN:DAYLIGHT
TZOFFSETFROM:+0100
TZOFFSETTO:+0200
TZNAME:CEST
DTSTART:20240331T010000
END:DAYLIGHT
BEGIN:STANDARD
TZOFFSETFROM:+0200
TZOFFSETTO:+0100
TZNAME:CET
DTSTART:20241027T010000
END:STANDARD
END:VTIMEZONE
BEGIN:VEVENT
DTSTART;TZID=Europe/Berlin:20240417T203000
DTEND;TZID=Europe/Berlin:20240417T233000
DTSTAMP:20260420T000352
CREATED:20231124T030742Z
LAST-MODIFIED:20240402T114059Z
UID:2538-1713385800-1713396600@www.reigen.at
SUMMARY:Paul Childers & The Makers
DESCRIPTION:Paul Childers\, ein Singer-Songwriter aus Nashville\, steht an der Spitze einer aufkeimenden Bewegung von Gitarristen in Amerika. Der 27-Jährige verbindet sein virtuoses Gitarrenspiel nahtlos mit klaren bluesigen Einflüssen von Stevie Ray Vaughan und Jimi Hendrix und kreiert eingängige Popsongs mit R&B-\, Jazz- und Soul-Anklängen.\nSein Debütalbum „Naked Poetry“ landete 2017 auf Platz 27 der Billboard Top 200 in den Vereinigten Staaten. Dieser Erfolg öffnete ihm Türen zu prestigeträchtigen Bühnen\, darunter die Rock & Roll Hall of Fame und das Songbirds Guitar Museum\, wo er die Ehre hatte\, für den Botschafter des Museums\, Vince Gill\, zu eröffnen. \nPaul Childers is a musician who defies categorization. His blues-infused guitar playing is reminiscent of John Mayer’s soulful style\, while his songwriting seamlessly blends elements of blues\, pop\, and jazz. This versatility allows us to perform at a wide range of venues\, from intimate blues and jazz clubs to bustling festivals. Whether it’s hardcore blues enthusiasts or casual music fans\, everyone can’t help but groove to Paul’s infectious melodies and captivating stage presence.
URL:https://www.reigen.at/event/paul-childers-the-makers/
ATTACH;FMTTYPE=image/jpeg:https://www.reigen.at/wp-content/uploads/2023/11/childerst.jpg
END:VEVENT
END:VCALENDAR