BEGIN:VCALENDAR
VERSION:2.0
PRODID:-//reigen.at - ECPv6.0.12//NONSGML v1.0//EN
CALSCALE:GREGORIAN
METHOD:PUBLISH
X-ORIGINAL-URL:https://www.reigen.at
X-WR-CALDESC:Veranstaltungen für reigen.at
REFRESH-INTERVAL;VALUE=DURATION:PT1H
X-Robots-Tag:noindex
X-PUBLISHED-TTL:PT1H
BEGIN:VTIMEZONE
TZID:Europe/Berlin
BEGIN:DAYLIGHT
TZOFFSETFROM:+0100
TZOFFSETTO:+0200
TZNAME:CEST
DTSTART:20240331T010000
END:DAYLIGHT
BEGIN:STANDARD
TZOFFSETFROM:+0200
TZOFFSETTO:+0100
TZNAME:CET
DTSTART:20241027T010000
END:STANDARD
END:VTIMEZONE
BEGIN:VEVENT
DTSTART;TZID=Europe/Berlin:20240420T203000
DTEND;TZID=Europe/Berlin:20240420T223000
DTSTAMP:20260420T011531
CREATED:20231026T120005Z
LAST-MODIFIED:20240409T224035Z
UID:2440-1713645000-1713652200@www.reigen.at
SUMMARY:RayVille Big Band - Joey Green
DESCRIPTION:Der Frühling ist in der Luft! „Vienna Blues Spring\, das ist …“ Und es ist wieder einmal an der Zeit\, den leidenschaftlichen\, vibelastigen Big-Band-Sound der RayVille Big Band zu feiern. Die Mitbegründer Joey Green und Alex Lag gründeten 2013 die RayVille Big Band Treffen bei einem R&B-Konzert in Wien. Seit 2015 begeistert die RayVille Big Band das Wiener Publikum in Spielstätten wie dem ORF Radio Kulturhaus\, Reigen\, Porgy & Bess\, Metropol und Die Bühne. Bekannt für ihre authentischen\, musikalischen Hommagen an ikonische Künstler wie Ray Charles\, Frank Sinatra\, Nat King Cole und neuerdings Billy Joel (warten Sie\, bis Sie IHRE Interpretation von Sansibar hören)\, definiert RayVille neu\, was es bedeutet\, eine „Big Band“ zu sein ” im Jahr 2024. Kommen Sie vorbei und feiern Sie den Originalsound und die Energie dieser 18-köpfigen Big Band mit Joey Green und vielen der talentiertesten und gefragtesten Musiker Wiens. Seien Sie dabei\, wenn sie noch einmal klassische Musikarrangements der oben genannten Künstler aufgreifen und Ihnen ihre eigene Marke an ORIGINAL-Big-Band-Kompositionen vorstellen.\nVerpassen Sie nicht diese einmalige Chance\, diese zeitlosen Interpretationen einiger der beliebtesten klassischen Big-Band-Titel aller Zeiten zu hören – aufgeführt mit Authentizität\, Leidenschaft und Elan! Neugierig\, dann klicken Sie auf den Soundcloud-Link unten\, um 5 Originaltitel zu hören\, die gerade von der Big Band veröffentlicht und am 16. September letzten Jahres in Reigen live aufgenommen wurden. \n„Brighton Beach“\n„Love\, Love\, Love“\n„Look What I’ve Done“\n„Soundcheck“\n„Heartbroke Again“ \nWenn Ihnen diese LIVE-Tracks gefallen\, vergessen Sie nicht\, RayVille zu folgen\, da in den kommenden Tagen und Wochen weitere Tracks dieser erstaunlichen Performance veröffentlicht werden. Und wenn Sie das Glück haben\, am Samstag in Wien zu sein\, Am 20. April um (20:30 Uhr) können Sie sie bei Reigen Live verfolgen! \n  \nhttps://youtu.be/NEvrukP8tBQ?si=JL1gmXIGceawidsE \nhttps://youtu.be/pdVdaORM_zs?si=fIE7QtqYV3lIYPeD
URL:https://www.reigen.at/event/rayville-big-band-joey-green/
LOCATION:REIGEN LIVE\, Hadikgasse 62\, Wien\, 1140\, Österreich
ATTACH;FMTTYPE=image/jpeg:https://www.reigen.at/wp-content/uploads/2023/10/Rayville.jpg
END:VEVENT
END:VCALENDAR