BEGIN:VCALENDAR
VERSION:2.0
PRODID:-//reigen.at - ECPv6.0.12//NONSGML v1.0//EN
CALSCALE:GREGORIAN
METHOD:PUBLISH
X-ORIGINAL-URL:https://www.reigen.at
X-WR-CALDESC:Veranstaltungen für reigen.at
REFRESH-INTERVAL;VALUE=DURATION:PT1H
X-Robots-Tag:noindex
X-PUBLISHED-TTL:PT1H
BEGIN:VTIMEZONE
TZID:Europe/Berlin
BEGIN:DAYLIGHT
TZOFFSETFROM:+0100
TZOFFSETTO:+0200
TZNAME:CEST
DTSTART:20240331T010000
END:DAYLIGHT
BEGIN:STANDARD
TZOFFSETFROM:+0200
TZOFFSETTO:+0100
TZNAME:CET
DTSTART:20241027T010000
END:STANDARD
END:VTIMEZONE
BEGIN:VEVENT
DTSTART;TZID=Europe/Berlin:20240424T203000
DTEND;TZID=Europe/Berlin:20240424T233000
DTSTAMP:20260420T000746
CREATED:20231221T185757Z
LAST-MODIFIED:20240126T010255Z
UID:2680-1713990600-1714001400@www.reigen.at
SUMMARY:Patrik Jansson Band
DESCRIPTION:Patrik Jansson Band was formed in Stockholm\, the capital of Sweden in late 2007. After playing drums in various blues bands and jazz combos\, hard-rock and metal acts for several years\, Patrik decided it was time for another challenge. He picked up the guitar and started playing and singing in hopes of developing as a songwriter and a musician. “I’ve always loved to learn new things” he says. With a passion for heavy Texas blues and with a new mission in life he started looking for musicians to play with. “I had a pretty clear idea of what I was looking for” he says\, “I wanted to play blues with a more modern approach. Blues is supposed to feel fresh and alive\, it’s a most vital music in my opinion. In short I wanted to play the kind of music that I would like to hear myself and that I think a lot of other people would like and appreciate”. \nPatrik Jansson machte sich zuerst einen Namen als Schlagzeuger in verschiedenen Blues-\, Jazz-\, Hardrock- und Metal-Bands. Bis der Schwede seine Liebe zur Gitarre entdeckte und ebenso seine Talente als Singer-Song-Writer. Also gründete er 2007 seine eigene Band\, mit der er seither ein fixer Bestandteil des „Schweden-Blues“ ist. Und das steht für funkig\, ein bisschen schmerzvoll und gleichzeitig kräftig. Was will das Blueser-Herz mehr? \nPatrik Jansson – Vocals\, Guitars Lars Eriksson – Organ\, Piano Martin Forsstedt – Drums Thomas Andersson – Bass
URL:https://www.reigen.at/event/patrik-jansson-band/
ATTACH;FMTTYPE=image/jpeg:https://www.reigen.at/wp-content/uploads/2023/03/20230425_01-1.jpg
END:VEVENT
END:VCALENDAR