BEGIN:VCALENDAR
VERSION:2.0
PRODID:-//reigen.at - ECPv6.0.12//NONSGML v1.0//EN
CALSCALE:GREGORIAN
METHOD:PUBLISH
X-WR-CALNAME:reigen.at
X-ORIGINAL-URL:https://www.reigen.at
X-WR-CALDESC:Veranstaltungen für reigen.at
REFRESH-INTERVAL;VALUE=DURATION:PT1H
X-Robots-Tag:noindex
X-PUBLISHED-TTL:PT1H
BEGIN:VTIMEZONE
TZID:Europe/Berlin
BEGIN:DAYLIGHT
TZOFFSETFROM:+0100
TZOFFSETTO:+0200
TZNAME:CEST
DTSTART:20240331T010000
END:DAYLIGHT
BEGIN:STANDARD
TZOFFSETFROM:+0200
TZOFFSETTO:+0100
TZNAME:CET
DTSTART:20241027T010000
END:STANDARD
END:VTIMEZONE
BEGIN:VEVENT
DTSTART;TZID=Europe/Berlin:20240427T203000
DTEND;TZID=Europe/Berlin:20240427T233000
DTSTAMP:20260420T011157
CREATED:20231012T095129Z
LAST-MODIFIED:20240126T195302Z
UID:2382-1714249800-1714260600@www.reigen.at
SUMMARY:T.G. Copperfield supp. Lady Chatterley's Lovers
DESCRIPTION:Songwriter\, Sänger und Gitarrist Tilo GeorgeCopperfield arbeitet ständig an der Magie des nächsten Songs. Angefangen als treibende Kraft der Südstaaten-Bluesrocker „3 Dayz Whizkey“fand er bald seine ganz eigene Stimme im Blues\, Rock und Americana. Ein Geschichtenerzähler mit einem bemerkenswerten Sinn für Melodien und mit dem Herzen eines wahren Rock and Rollers. Sein respektabler Backkatalog von zehn Solo Platten seit 2017 sprichtfür sich und macht den hart arbeitenden T.G. zu einem einzigartigen\, aber durchweg authentischen Charakter in der Szene. Stets bemüht\, seine eigenen Grenzen mit jedem neuen musikalischen Abenteuer ein Stückchen weiter zu verschieben.                                                                                                       T.G. Copperfield – voc./guit.\nAir Hofmann – drums\nHubert Hofmann – bass\nClaus Baecher – keys \n \n \n  \nLady Chatterley’s Lovers ist eine im Blues verwurzelte Wiener Cover Band mit Anleihen an Rock\, Folk und Country.  Starke Stimmen werden von einer analogen Basis aus Gitarren\, Bass und Schlagzeug getragen.  Das Repertoire enthält ausgesuchte Americana Titel von Tedeschi-Trucks Band bis Mick Jagger.
URL:https://www.reigen.at/event/t-g-copperfield/
LOCATION:REIGEN LIVE\, Hadikgasse 62\, Wien\, 1140\, Österreich
ATTACH;FMTTYPE=image/jpeg:https://www.reigen.at/wp-content/uploads/2023/10/Presspic-Copperfield-by-Carmen-Wiendl-scaled.jpg
END:VEVENT
END:VCALENDAR