BEGIN:VCALENDAR
VERSION:2.0
PRODID:-//reigen.at - ECPv6.0.12//NONSGML v1.0//EN
CALSCALE:GREGORIAN
METHOD:PUBLISH
X-WR-CALNAME:reigen.at
X-ORIGINAL-URL:https://www.reigen.at
X-WR-CALDESC:Veranstaltungen für reigen.at
REFRESH-INTERVAL;VALUE=DURATION:PT1H
X-Robots-Tag:noindex
X-PUBLISHED-TTL:PT1H
BEGIN:VTIMEZONE
TZID:Europe/Berlin
BEGIN:DAYLIGHT
TZOFFSETFROM:+0100
TZOFFSETTO:+0200
TZNAME:CEST
DTSTART:20240331T010000
END:DAYLIGHT
BEGIN:STANDARD
TZOFFSETFROM:+0200
TZOFFSETTO:+0100
TZNAME:CET
DTSTART:20241027T010000
END:STANDARD
END:VTIMEZONE
BEGIN:VEVENT
DTSTART;TZID=Europe/Berlin:20240502T203000
DTEND;TZID=Europe/Berlin:20240502T233000
DTSTAMP:20260419T222633
CREATED:20231216T015129Z
LAST-MODIFIED:20240202T222349Z
UID:2659-1714681800-1714692600@www.reigen.at
SUMMARY:Tom Mueller Band special guest Stephan Kutscher
DESCRIPTION:„Sax First\, Talk Later“ ist das Motto des Abends\, wobei der herausragende und einschlägig bekannte Bluesgitarrist Stephan Kutscher dafür Sorgen wird\,\ndass auch die Gitarre nicht zu kurz kommt. Er wird die Tom Mueller Band an diesem besonderen Abend tatkräftig unterstützen.\nTom Mueller präsentiert sich seit vielen Jahren als fester Bestandteil der europäischen Bluesszene. Seine Songs erzählen Geschichten aus dem Leben mit Witz\, Ironie und dem richtigen Groove. Das hochkarätig besetzte Ensemble besteht aus:\nValentin Oman: Piano\nKarol Hodas: Bass\nThomas Froschauer: Schlagzeug.\nGemeinsam zelebrieren sie saxy\, vintage Rhythm and Blues und Jump Blues der 50ies und 60ies mit einer Prise Boogaloo.\nLadies and Gentlemen: Let the Good Times Roll!!!
URL:https://www.reigen.at/event/tom-muellerr-band/
LOCATION:REIGEN LIVE\, Hadikgasse 62\, Wien\, 1140\, Österreich
ATTACH;FMTTYPE=image/jpeg:https://www.reigen.at/wp-content/uploads/2024/01/Tom-Stephan.jpg
END:VEVENT
END:VCALENDAR