BEGIN:VCALENDAR
VERSION:2.0
PRODID:-//reigen.at - ECPv6.0.12//NONSGML v1.0//EN
CALSCALE:GREGORIAN
METHOD:PUBLISH
X-ORIGINAL-URL:https://www.reigen.at
X-WR-CALDESC:Veranstaltungen für reigen.at
REFRESH-INTERVAL;VALUE=DURATION:PT1H
X-Robots-Tag:noindex
X-PUBLISHED-TTL:PT1H
BEGIN:VTIMEZONE
TZID:Europe/Berlin
BEGIN:DAYLIGHT
TZOFFSETFROM:+0100
TZOFFSETTO:+0200
TZNAME:CEST
DTSTART:20240331T010000
END:DAYLIGHT
BEGIN:STANDARD
TZOFFSETFROM:+0200
TZOFFSETTO:+0100
TZNAME:CET
DTSTART:20241027T010000
END:STANDARD
END:VTIMEZONE
BEGIN:VEVENT
DTSTART;TZID=Europe/Berlin:20240504T203000
DTEND;TZID=Europe/Berlin:20240504T233000
DTSTAMP:20260419T234640
CREATED:20230928T233818Z
LAST-MODIFIED:20240116T122811Z
UID:2258-1714854600-1714865400@www.reigen.at
SUMMARY:JAX HOLLOW
DESCRIPTION:Eine einzigartige Mischung aus Songwriting\, Riffs\, mitreißenden Soli und kraftvollem Gesang\, das ist Jax Hollow aus Nashville\, Tennessee und ihr Revival & Blues Rock Trio!\nJax Hollow hat mit ihrem Debütalbum Underdog Anthems\, das von dem legendären Produzenten Michael Wagener (Metallica\, Ozzy Osbourne\, Skid Row\, Janet Jackson) produziert wurde\, dessen Werke mehr als 100 Millionen Mal verkauft wurden\, die Szene aufgemischt. Jax lebt in Nashville und ist eine der seltenen weiblichen Absolventen der renommierten Berklee School of Music\, wo sie auch Songwriting bei Pat Pattison studierte\, zu dessen Grammy-prämierten Schülern John Mayer und Gillian Welch gehören. Jax’ Live-Debüt fand als Headliner im ausverkauften Basement East statt\, und ein paar Monate später trat sie als Headliner im weltberühmten Exit/In auf. Ihre Musik wurde von Nashville’s 102.9 The Buzz gespielt\, die ihren Song „Say my Name“ als Local Buzzcut mit den Worten “2021 ist das Jahr von Jax Hollow” präsentierten und auf Nashville’s Lightning 100\, die Jax als lokale Künstlerin der Woche vorstellten. Das Album „Underdog Anthems“ wurde 2022 auch in Europa veröffentlicht. Und am 28. Mai 2023 hat Jax ihr neues Album „Only The Wild Ones“ im Nashville` Basement East Club released! \nIm Juli ist Jax auf persönliche Einladung von Melissa Etheridge als ihr support in der legendären Konzerthalle Ryman Auditorium in Nashville aufgetreten….. mit „standing ovations“ von 2000 begeisterten Leuten!!!\n\nJax Hollow – vocals\, guitars\nMicheal Lupo – drums\nTaylor Tuke – bass\, back vocals
URL:https://www.reigen.at/event/jax-hollow/
LOCATION:REIGEN LIVE\, Hadikgasse 62\, Wien\, 1140\, Österreich
ATTACH;FMTTYPE=image/jpeg:https://www.reigen.at/wp-content/uploads/2023/09/JAX_PromoPhotoB.jpg
END:VEVENT
END:VCALENDAR