BEGIN:VCALENDAR
VERSION:2.0
PRODID:-//reigen.at - ECPv6.0.12//NONSGML v1.0//EN
CALSCALE:GREGORIAN
METHOD:PUBLISH
X-ORIGINAL-URL:https://www.reigen.at
X-WR-CALDESC:Veranstaltungen für reigen.at
REFRESH-INTERVAL;VALUE=DURATION:PT1H
X-Robots-Tag:noindex
X-PUBLISHED-TTL:PT1H
BEGIN:VTIMEZONE
TZID:Europe/Berlin
BEGIN:DAYLIGHT
TZOFFSETFROM:+0100
TZOFFSETTO:+0200
TZNAME:CEST
DTSTART:20240331T010000
END:DAYLIGHT
BEGIN:STANDARD
TZOFFSETFROM:+0200
TZOFFSETTO:+0100
TZNAME:CET
DTSTART:20241027T010000
END:STANDARD
END:VTIMEZONE
BEGIN:VEVENT
DTSTART;TZID=Europe/Berlin:20240509T203000
DTEND;TZID=Europe/Berlin:20240509T233000
DTSTAMP:20260419T234819
CREATED:20230817T075820Z
LAST-MODIFIED:20240430T123829Z
UID:2142-1715286600-1715297400@www.reigen.at
SUMMARY:Wallgrin (CAN) - mystisch-experimenteller Dream Pop aus Vancouver
DESCRIPTION:Wallgrin ist die Experimental Pop/Dream Pop Künstlerin aus Vancouver.  Sie besticht durch ihre verträumt\, psychedelischen bis hin zum mystisch-rituellen Klangwelten. Ihr einzigartiger Sound brachte sie  schon aufs The Great Escape\, FOCUS Wales oder Tallinn Music Week. \nDie kanadische Künstlerin Tegan Wahlgren versteht es wie keine andere\, Hörer auf eine trip-artige Reise mitzunehmen. Man drückt auf Play\, plötzlich ist man gefangen in einer kafkaesken Soundkulisse\, die einen nicht mehr so schnell loslässt. Dabei braucht „Wallgrin“ gar nicht viel\, um die Münder ihrer Reisegruppe ständig weit geöffnet zu halten. Ihre Stimme übernimmt den Hauptteil dieses Unterfangens. Zart\, zerbrechlich\, akzentuiert und durchdacht. Dezimierte Beats mit wunderbaren Geigenflächen erledigen den Rest. Gut\, dass „Wallgrin“ schon im Sommer 2021 ein ganzes Album veröffentlicht hat. Der vielversprechende Titel: „Yet Again the Wheel Turns“. \nTegan Wahlgren\, Jasper Wrinch\, Jen Yakamovich\, Nathan  Shubert-Harbison
URL:https://www.reigen.at/event/wallgrin-can-mystisch-experimenteller-dream-pop-aus-vancouver/
LOCATION:REIGEN LIVE\, Hadikgasse 62\, Wien\, 1140\, Österreich
ATTACH;FMTTYPE=image/jpeg:https://www.reigen.at/wp-content/uploads/2023/08/Wallgrin.jpg
END:VEVENT
END:VCALENDAR