BEGIN:VCALENDAR
VERSION:2.0
PRODID:-//reigen.at - ECPv6.0.12//NONSGML v1.0//EN
CALSCALE:GREGORIAN
METHOD:PUBLISH
X-WR-CALNAME:reigen.at
X-ORIGINAL-URL:https://www.reigen.at
X-WR-CALDESC:Veranstaltungen für reigen.at
REFRESH-INTERVAL;VALUE=DURATION:PT1H
X-Robots-Tag:noindex
X-PUBLISHED-TTL:PT1H
BEGIN:VTIMEZONE
TZID:Europe/Berlin
BEGIN:DAYLIGHT
TZOFFSETFROM:+0100
TZOFFSETTO:+0200
TZNAME:CEST
DTSTART:20240331T010000
END:DAYLIGHT
BEGIN:STANDARD
TZOFFSETFROM:+0200
TZOFFSETTO:+0100
TZNAME:CET
DTSTART:20241027T010000
END:STANDARD
END:VTIMEZONE
BEGIN:VEVENT
DTSTART;TZID=Europe/Berlin:20240514T203000
DTEND;TZID=Europe/Berlin:20240514T233000
DTSTAMP:20260419T222603
CREATED:20240101T142408Z
LAST-MODIFIED:20240123T115902Z
UID:2741-1715718600-1715729400@www.reigen.at
SUMMARY:Wanda Johnson Band
DESCRIPTION:Put simply\, Wanda Johnson is the best blues singer that South Carolina has to offer. She can handle a slow-burning ballad with elegance\, and then throw some fiery grit into an uptempo rocker. But the key to her brilliance is understatement. She’s never been the cliched blues woman onstage\, over-singing or falling to her knees in dramatic anguish. She prefers to let her voice do the emoting\, either on classics by Etta James (her version of “At Last” is damn near as definitive as James’) or Sarah Vaughan. Sure\, she’s capable of gospel-style passion and jazz-style control\, but she’s not one to indulge in theatrics. With those skills in her toolbox\, it’s no wonder that she’s commonly known as “South Carolina’s First Lady Of Rhythm & Blues\,” and any opportunity to see her work her magic onstage is a welcome one. Don’t miss out on this chance to see a brilliant\, home-grown vocalist.
URL:https://www.reigen.at/event/wanda-johnson/
LOCATION:REIGEN LIVE\, Hadikgasse 62\, Wien\, 1140\, Österreich
ATTACH;FMTTYPE=image/jpeg:https://www.reigen.at/wp-content/uploads/2024/01/Wanda-thingschange.jpg
END:VEVENT
END:VCALENDAR