BEGIN:VCALENDAR
VERSION:2.0
PRODID:-//reigen.at - ECPv6.0.12//NONSGML v1.0//EN
CALSCALE:GREGORIAN
METHOD:PUBLISH
X-WR-CALNAME:reigen.at
X-ORIGINAL-URL:https://www.reigen.at
X-WR-CALDESC:Veranstaltungen für reigen.at
REFRESH-INTERVAL;VALUE=DURATION:PT1H
X-Robots-Tag:noindex
X-PUBLISHED-TTL:PT1H
BEGIN:VTIMEZONE
TZID:Europe/Berlin
BEGIN:DAYLIGHT
TZOFFSETFROM:+0100
TZOFFSETTO:+0200
TZNAME:CEST
DTSTART:20240331T010000
END:DAYLIGHT
BEGIN:STANDARD
TZOFFSETFROM:+0200
TZOFFSETTO:+0100
TZNAME:CET
DTSTART:20241027T010000
END:STANDARD
END:VTIMEZONE
BEGIN:VEVENT
DTSTART;TZID=Europe/Berlin:20240516T203000
DTEND;TZID=Europe/Berlin:20240516T233000
DTSTAMP:20260419T234426
CREATED:20240120T235310Z
LAST-MODIFIED:20240126T214019Z
UID:2903-1715891400-1715902200@www.reigen.at
SUMMARY:Paul Batto Trio
DESCRIPTION:Paul Batto has been a steady presence on the European scene for many years. Although rooted in traditional genres\, he defies category\, blends influences and evades labels. Paul is a prolific songwriter\, guitarist and singer who\, through visceral and deeply personal lyric\, offers the listener glimpses into his ever-restless soul. He’s got stories to tell and they come as songs of many shapes and colors.  Robert Christian is a “master of the Stratocaster” – characterized by his uniquely tasteful and soulful style. His uncanny ability to simultaneously blend in and stand out makes any good song instantly better. One of a kind guitar voice. Ondra Kriz. The black&white keys-wiz who has been playing since he was old enough to first walk to the piano. Trained in classical music and jazz. His cross-genre experience and all round musicianship make him a perfect match for a song-driven trio. \n  \n \n  \n 
URL:https://www.reigen.at/event/paul-batto-trio/
LOCATION:REIGEN LIVE\, Hadikgasse 62\, Wien\, 1140\, Österreich
ATTACH;FMTTYPE=image/jpeg:https://www.reigen.at/wp-content/uploads/2024/01/paolo-patto.jpg
END:VEVENT
END:VCALENDAR