BEGIN:VCALENDAR
VERSION:2.0
PRODID:-//reigen.at - ECPv6.0.12//NONSGML v1.0//EN
CALSCALE:GREGORIAN
METHOD:PUBLISH
X-WR-CALNAME:reigen.at
X-ORIGINAL-URL:https://www.reigen.at
X-WR-CALDESC:Veranstaltungen für reigen.at
REFRESH-INTERVAL;VALUE=DURATION:PT1H
X-Robots-Tag:noindex
X-PUBLISHED-TTL:PT1H
BEGIN:VTIMEZONE
TZID:Europe/Berlin
BEGIN:DAYLIGHT
TZOFFSETFROM:+0100
TZOFFSETTO:+0200
TZNAME:CEST
DTSTART:20240331T010000
END:DAYLIGHT
BEGIN:STANDARD
TZOFFSETFROM:+0200
TZOFFSETTO:+0100
TZNAME:CET
DTSTART:20241027T010000
END:STANDARD
END:VTIMEZONE
BEGIN:VEVENT
DTSTART;TZID=Europe/Berlin:20240518T203000
DTEND;TZID=Europe/Berlin:20240518T233000
DTSTAMP:20260419T234427
CREATED:20230802T101639Z
LAST-MODIFIED:20240517T153544Z
UID:2047-1716064200-1716075000@www.reigen.at
SUMMARY:Copperhead County
DESCRIPTION:Copperhead County managed to spread their reputation as a serious southern rock band in a very short time. Inspired by Blackberry Smoke\, The Outlaws and many other classics\, Copperhead County knows how to capture that warm southern feeling. They know how southern rock is meant to be. Mostly orginal songs about everything in life\, brought by Corvin Silvester’s intense and warm voice. Robert van Voorden takes care of the typical Copperhead County guitar sound AND feeling. JordyDuitscher’s organ makes sure everything is glued together the way it should be.\nRhythm section Alex Stolwijk (drums) and Johan van Dijk (bass) provide the rhythm power to the songs and Marja Boender’s backing vocals make it a wonderful blend of southern rock songs. The new “Homebound” tour will take the band through all of Europe\, to celebrate the release of the new “homebound” album that will be released in September through CRS! \n“You’d think these guys were from Alabama or somewhere close but guess what\, they’re from Holland!” – BluesBlues magazine (UK)
URL:https://www.reigen.at/event/copperhead-county/
LOCATION:REIGEN LIVE\, Hadikgasse 62\, Wien\, 1140\, Österreich
ATTACH;FMTTYPE=image/jpeg:https://www.reigen.at/wp-content/uploads/2023/08/CC-3906_RvD-scaled-1.jpg
END:VEVENT
END:VCALENDAR