BEGIN:VCALENDAR
VERSION:2.0
PRODID:-//reigen.at - ECPv6.0.12//NONSGML v1.0//EN
CALSCALE:GREGORIAN
METHOD:PUBLISH
X-ORIGINAL-URL:https://www.reigen.at
X-WR-CALDESC:Veranstaltungen für reigen.at
REFRESH-INTERVAL;VALUE=DURATION:PT1H
X-Robots-Tag:noindex
X-PUBLISHED-TTL:PT1H
BEGIN:VTIMEZONE
TZID:Europe/Berlin
BEGIN:DAYLIGHT
TZOFFSETFROM:+0100
TZOFFSETTO:+0200
TZNAME:CEST
DTSTART:20240331T010000
END:DAYLIGHT
BEGIN:STANDARD
TZOFFSETFROM:+0200
TZOFFSETTO:+0100
TZNAME:CET
DTSTART:20241027T010000
END:STANDARD
END:VTIMEZONE
BEGIN:VEVENT
DTSTART;TZID=Europe/Berlin:20240521T203000
DTEND;TZID=Europe/Berlin:20240521T233000
DTSTAMP:20260419T233904
CREATED:20240123T212727Z
LAST-MODIFIED:20240124T180110Z
UID:2927-1716323400-1716334200@www.reigen.at
SUMMARY:Hotel Kummer
DESCRIPTION:„Das HOTEL KUMMER spielt Wienerisches und Internationales in einer Mischung aus Blues\, Singer/Songwriter und manchmal auch ein wenig rockig. Vorgetragen wird Eigenes und ins Wienerisch übersetztes Gecovertes\, etwa John Prine\, Bob Dylan\, Neil Young\, Ryan Adams und dem ganzen\, weiten amerikanischen Rest. Die Hotel-Kummer-Belegschaft besteht aus Mischa Krausz am Bass\, Lois Obereder und dessen Stimme sowie der akustischen Gitarre\, Christian Sitzwohl am Schlagzeug\, David Strohmeier an diversen Gitarren und Christina Zauner am Klavier und allem\, was sonst Tasten hat. Aktuelles Album: „Wäus is wias is“ als Vinyl oder auf Spotify und Apple Music.“
URL:https://www.reigen.at/event/hotel-kummer/
LOCATION:REIGEN LIVE\, Hadikgasse 62\, Wien\, 1140\, Österreich
ATTACH;FMTTYPE=image/jpeg:https://www.reigen.at/wp-content/uploads/2024/01/Hotel-Kummer_copyright-Hotel-Kummer.jpg
END:VEVENT
END:VCALENDAR