BEGIN:VCALENDAR
VERSION:2.0
PRODID:-//reigen.at - ECPv6.0.12//NONSGML v1.0//EN
CALSCALE:GREGORIAN
METHOD:PUBLISH
X-WR-CALNAME:reigen.at
X-ORIGINAL-URL:https://www.reigen.at
X-WR-CALDESC:Veranstaltungen für reigen.at
REFRESH-INTERVAL;VALUE=DURATION:PT1H
X-Robots-Tag:noindex
X-PUBLISHED-TTL:PT1H
BEGIN:VTIMEZONE
TZID:Europe/Berlin
BEGIN:DAYLIGHT
TZOFFSETFROM:+0100
TZOFFSETTO:+0200
TZNAME:CEST
DTSTART:20240331T010000
END:DAYLIGHT
BEGIN:STANDARD
TZOFFSETFROM:+0200
TZOFFSETTO:+0100
TZNAME:CET
DTSTART:20241027T010000
END:STANDARD
END:VTIMEZONE
BEGIN:VEVENT
DTSTART;TZID=Europe/Berlin:20240525T203000
DTEND;TZID=Europe/Berlin:20240525T233000
DTSTAMP:20260419T221503
CREATED:20231012T091659Z
LAST-MODIFIED:20240126T231324Z
UID:2380-1716669000-1716679800@www.reigen.at
SUMMARY:Rob Tognoni support: Miss Kaytie
DESCRIPTION:Tognonis energiegeladener Power- Bluesrock-Sound bewegt sich sexy zwischen Macho und gradlinigem Rocker\, er ist schnell\, temporeich\, dazu ebenso kreativ\, virtuos und ausdrucksstark…“ Alb Bote\, Südwest Presse – Deutschland \n„Rob Tognoni\, der tasmanische Teufel selbst\, ist hier ein Favorit unter den Giants Musik-Fans\, und er kann auf jeden Fall Gitarre spielen! Es ist immer wieder eine Freude\, Rob und seine Band dabei zu sehen\, wie sie ein paar Up-Tempo-Blues raushauen…“ Giants Of Rock Festival – Großbritannien Metalplanetnews \n„Jimi Hendrix\, Rory Gallagher und Stevie Ray Vaughan würden ihm sicher die Hand schütteln\, wenn sie noch am Leben wären. Tognoni besitzt etwas\, das nur wenige Gitarristen haben: Charakter und seinen eigenen Stil. Wer sonst hat schon so großartige Licks zu bieten und kann gleichzeitig auch noch hervorragend singen…“ Music Machine – Niederland \nMiss Kaytie \nMit ihrem zweiten Studioalbum „Where the magic lives“\, meldet sich die 4köpfige Formation rund um den Songwriter\, Sänger und Gitarristen Manuel Kainz nach dem Debütalbum „Playing in the Dirt“(2013) zurück. Die Weiterentwicklung der letzten Jahre ist nun spürbar in der Verschmelzung von Rock\, Blues\, Funk und Pop zu hören. Die Liebe zu handgemachter Musik verbindet die vier Musiker und lädt echte Musikliebhaber:innen ein\, in eine Welt von atmosphärischer Stimmung zu tauchen. Die Songs sind ausgereift arrangiert und auf das Wesentlichste reduziert. Magical blues from the deep south of austria – „WHERE THE MAGIC LIVES“. \n \n 
URL:https://www.reigen.at/event/rob-tognoni/
ATTACH;FMTTYPE=image/jpeg:https://www.reigen.at/wp-content/uploads/2023/10/Rob_Tognoni_001_copyright_Dietmar_Hoscher-scaled.jpg
END:VEVENT
END:VCALENDAR