BEGIN:VCALENDAR
VERSION:2.0
PRODID:-//reigen.at - ECPv6.0.12//NONSGML v1.0//EN
CALSCALE:GREGORIAN
METHOD:PUBLISH
X-ORIGINAL-URL:https://www.reigen.at
X-WR-CALDESC:Veranstaltungen für reigen.at
REFRESH-INTERVAL;VALUE=DURATION:PT1H
X-Robots-Tag:noindex
X-PUBLISHED-TTL:PT1H
BEGIN:VTIMEZONE
TZID:Europe/Berlin
BEGIN:DAYLIGHT
TZOFFSETFROM:+0100
TZOFFSETTO:+0200
TZNAME:CEST
DTSTART:20240331T010000
END:DAYLIGHT
BEGIN:STANDARD
TZOFFSETFROM:+0200
TZOFFSETTO:+0100
TZNAME:CET
DTSTART:20241027T010000
END:STANDARD
END:VTIMEZONE
BEGIN:VEVENT
DTSTART;TZID=Europe/Berlin:20240527T203000
DTEND;TZID=Europe/Berlin:20240527T233000
DTSTAMP:20260419T203105
CREATED:20240115T234853Z
LAST-MODIFIED:20240512T104755Z
UID:2876-1716841800-1716852600@www.reigen.at
SUMMARY:Hans Theessink & Blue Groove - AUSVERKAUFT!!
DESCRIPTION:Liebe Gäste: Das Konzert ist ausverkauft! Im Reigen können nur mehr die per email reservierten Tickets bis 25.5. abgeholt werden. \nNach mehr als 8000 Konzerten und 50 Jahren „on the road“ ist HANS THEESSINK seit Langem eine Institution in Sachen Blues- & Roots-Musik. Sein unverkennbarer\, akustischer Gitarrenstil\, seine sonore Stimme\, sein Faible für Melodien und Vocals aber auch seine charismatische Bühnenpräsenz sind zu Markenzeichen des Niederländers und Wahlwieners geworden. Markenzeichen\, welche weltweit anerkannt und geschätzt sind und Theessink – den Bo Diddley einmal als „a hell of guitar player“ betitelte – unter anderem eine Grammy-Nominierung sowie mehrere Amadeus- und Danish-Music-Awards einbrachten. Nach wie vor tourt Hans Theessink unermüdlich\, begleitet von neuen Tonträgern\, wie zuletzt das mit Big Daddy Wilson eingespielte Album „Pay Day“.  Gegen Ende der 1980er lernte Hans Theessink am Flughafen Wien zufällig Jon Sass persönlich kennen. Theessink kam von einem New-Orleans-Trip zurück und wartete beim Großgepäckschalter auf seine Gitarren\, der junge Jon Sass wiederum auf seine Tuba. Sass war zu dieser Zeit bei Matthias Rüeggs Vienna Art Orchestra engagiert. Die beiden Musiker freundeten sich an und kurz darauf arbeiteten sie auf Theessinks Erfolgs-Album „Baby Wants To Boogie“ (1987) bereits erstmals zusammen. Diese Kooperation setzte sich auf der darauf folgenden Platte „Johnny & The Devil“ (1989) fort. Dazu lud Theessink auch den aus Grenada stammenden Schlagzeuger\, Perkussionisten und Vokalisten Alee Thelfa sowie die britische Jazz- und Soulsängerin Dorretta Carter ein. Die legendäre Kernbesetzung von „Hans Theessink & Blue Groove“ war gefunden! Zahllose\, umjubelte Tourneen führten quer durch Europa und die USA. Rund um die Jahrtausendwende wandten sich die Musikerinnen und Musiker dann anderen Projekten zu\, erst 2018 kam man anlässlich Hans Theessinks „´70 Birthday Bash“-Konzerts im Wiener Metropol wieder gemeinsam auf die Bühne.                                                                                                                                                                                                                                                                                                        2024 erlebt nun – endlich – die Reunion von Hans Theessink & Blue Groove\, für einige ausgewählte Konzerte. Nach all den Jahren hat diese Formation nichts an Strahlkraft eingebüßt. Die Blues-&Roots-Familie und die Freunde der handgemachten Musik dürfen sich einmal mehr auf exzellente Saitenarbeit\, groovige Rhythmen\, 3 fabelhafte Stimmen und eine „fette“ Tuba freuen. Alles verpackt in die wunderbaren Songs von Hans Theessink & Blue Groove! \n  \n 
URL:https://www.reigen.at/event/hans-theessink-blue-groove/
LOCATION:REIGEN LIVE\, Hadikgasse 62\, Wien\, 1140\, Österreich
ATTACH;FMTTYPE=image/jpeg:https://www.reigen.at/wp-content/uploads/2024/01/01-Hans-Theessink-Blue-Groove-©ola-queen-L1000908.jpg
END:VEVENT
END:VCALENDAR