BEGIN:VCALENDAR
VERSION:2.0
PRODID:-//reigen.at - ECPv6.0.12//NONSGML v1.0//EN
CALSCALE:GREGORIAN
METHOD:PUBLISH
X-ORIGINAL-URL:https://www.reigen.at
X-WR-CALDESC:Veranstaltungen für reigen.at
REFRESH-INTERVAL;VALUE=DURATION:PT1H
X-Robots-Tag:noindex
X-PUBLISHED-TTL:PT1H
BEGIN:VTIMEZONE
TZID:Europe/Berlin
BEGIN:DAYLIGHT
TZOFFSETFROM:+0100
TZOFFSETTO:+0200
TZNAME:CEST
DTSTART:20240331T010000
END:DAYLIGHT
BEGIN:STANDARD
TZOFFSETFROM:+0200
TZOFFSETTO:+0100
TZNAME:CET
DTSTART:20241027T010000
END:STANDARD
END:VTIMEZONE
BEGIN:VEVENT
DTSTART;TZID=Europe/Berlin:20240528T203000
DTEND;TZID=Europe/Berlin:20240528T233000
DTSTAMP:20260419T204807
CREATED:20230908T222205Z
LAST-MODIFIED:20240126T232326Z
UID:2245-1716928200-1716939000@www.reigen.at
SUMMARY:The European Blues Aces
DESCRIPTION:From the Netherlands\, Hein Meijer aka Little Boogie Boy has been playing with blues greats since the early 90s\, including John Primer\, who gave him his moniker when sneaking into Chicago blues clubs whilst underage. Performing not only with his own Little Boogie Boy Blues Band but also as a sideman to many well-known US musicians\, Hein’s infectious brand of “happy blues” continues to spread around Europe.\nFrom England\, Roger C. Wade on harmonica and vocals has been active for over thirty years in various formations. Rooted firmly in the footsteps of Big and Little Walter\, George Smith and Sonny Boy\, Roger is not only a consummate blues harmonica player\, but also a uniquely powerful performer that never fails to entertain an audience.\nFrom Germany\, Chris Rannenberg on piano and vocals is one of the few living pianists that learned in person from the greats and carries on the tradition of blues a la Blind John Davis\, Sunnyland Slim\, Walter Davis and Otis Spann. It simply does not get better than this in the world of blues piano and Chris is a central pillar in the European Blues Aces.\nThe Finnish bassist and guitarist Jaska Prepula has been a stalwart of the European Blues scene for many years and regularly tours with a whole host of musicians from Europe and the US. Jaska is a leading practitioner of traditional and swinging blues\, in not only the Tomi Leino Trio but he is also on speed dial for numerous other combos throughout Scandinavia.\nBased in Denmark\, drummer Mikko Peltola is unique in his approach to blues drumming. Always fresh\, dynamic and with that Fred Below swing\, Mikko has been the driving force for many visiting musicians from the US over the years and lays down an irresistible blues beat. The European Blues Aces. Five musicians\, five countries\, one simple aim – to offer top quality\, no-frills traditional blues that is so seldom heard in European clubs and at festivals nowadays. \n​
URL:https://www.reigen.at/event/the-european-blues-aces/
LOCATION:REIGEN LIVE\, Hadikgasse 62\, Wien\, 1140\, Österreich
ATTACH;FMTTYPE=image/jpeg:https://www.reigen.at/wp-content/uploads/2023/09/EBAs-band-photo-2023.jpg
END:VEVENT
END:VCALENDAR