BEGIN:VCALENDAR
VERSION:2.0
PRODID:-//reigen.at - ECPv6.0.12//NONSGML v1.0//EN
CALSCALE:GREGORIAN
METHOD:PUBLISH
X-WR-CALNAME:reigen.at
X-ORIGINAL-URL:https://www.reigen.at
X-WR-CALDESC:Veranstaltungen für reigen.at
REFRESH-INTERVAL;VALUE=DURATION:PT1H
X-Robots-Tag:noindex
X-PUBLISHED-TTL:PT1H
BEGIN:VTIMEZONE
TZID:Europe/Berlin
BEGIN:DAYLIGHT
TZOFFSETFROM:+0100
TZOFFSETTO:+0200
TZNAME:CEST
DTSTART:20240331T010000
END:DAYLIGHT
BEGIN:STANDARD
TZOFFSETFROM:+0200
TZOFFSETTO:+0100
TZNAME:CET
DTSTART:20241027T010000
END:STANDARD
END:VTIMEZONE
BEGIN:VEVENT
DTSTART;TZID=Europe/Berlin:20240529T203000
DTEND;TZID=Europe/Berlin:20240529T233000
DTSTAMP:20260419T204617
CREATED:20240115T234303Z
LAST-MODIFIED:20240523T180632Z
UID:2873-1717014600-1717025400@www.reigen.at
SUMMARY:Gabriela Martina Band
DESCRIPTION:Gabriela Martina is a vocalist\, composer\, and bandleader who grew up in Switzerland. She spent 13 years living and working in the US (Boston & New York) learning from the people who made Jazz (among many other styles of music originating from the US) as important of an art form as it is today. \nGabriela grew up yodeling with her family and had performances as early as the age of 4. Being raised on a beautiful farm in the heart of Switzerland surrounded by a musical family has influenced her musical path strongly. Martina’s upcoming album ‘Homage to Grämlis’ (2023)\, is a tribute to the farm in the Swiss Alps where she was raised. In spring of 2019 she won the LABgrant from The Boston Foundation\, which gave her great support with her album production of ‘Homage to Grämlis’. \nAs an ensemble they had the honor of performing in concert venues such as the Berklee Performance Center\, Jordan Hall\, International Tennis Hall of Fame\, State House of Flags\, Scullers Jazz Club\, the Montreux Jazz Festival\, and many others.  The musicians are: Gina Schwarz (b) Vancil Cooper (drums)\, Ben Rosenblum (accordion)\, Maxim Lubarsky (piano)\, Jussi Reijonen (guitar) and they all have their own musical careers with very impressive resumes. Performed with: Hamilton touring band\, Marcus Strickland\, Keyon Harrold\, Meshell Ndegeocello\, Steeve Gett\, Patrice Rushen\, Greg Osby\, Terri Lynn Carrington  Queen Latifah\,  Nick Carter (BackstreetBoys)\, Lalah Hathaway and played at: Appel Room at Lincoln Center\, Kuumbwa Jazz Center\, Ravinia\, the Library of Congress and Himawari-No-Sato Concert Hall in Yokohama. \n \n 
URL:https://www.reigen.at/event/gabriela-martina-band/
LOCATION:REIGEN LIVE\, Hadikgasse 62\, Wien\, 1140\, Österreich
ATTACH;FMTTYPE=image/jpeg:https://www.reigen.at/wp-content/uploads/2024/01/Gabriela-Martina_10_PhotobySimonHeer_low-res.jpg
END:VEVENT
END:VCALENDAR