BEGIN:VCALENDAR
VERSION:2.0
PRODID:-//reigen.at - ECPv6.0.12//NONSGML v1.0//EN
CALSCALE:GREGORIAN
METHOD:PUBLISH
X-ORIGINAL-URL:https://www.reigen.at
X-WR-CALDESC:Veranstaltungen für reigen.at
REFRESH-INTERVAL;VALUE=DURATION:PT1H
X-Robots-Tag:noindex
X-PUBLISHED-TTL:PT1H
BEGIN:VTIMEZONE
TZID:Europe/Berlin
BEGIN:DAYLIGHT
TZOFFSETFROM:+0100
TZOFFSETTO:+0200
TZNAME:CEST
DTSTART:20240331T010000
END:DAYLIGHT
BEGIN:STANDARD
TZOFFSETFROM:+0200
TZOFFSETTO:+0100
TZNAME:CET
DTSTART:20241027T010000
END:STANDARD
END:VTIMEZONE
BEGIN:VEVENT
DTSTART;TZID=Europe/Berlin:20240619T203000
DTEND;TZID=Europe/Berlin:20240619T233000
DTSTAMP:20260419T204740
CREATED:20240219T103955Z
LAST-MODIFIED:20240220T200215Z
UID:3197-1718829000-1718839800@www.reigen.at
SUMMARY:Big Peter`s Band 10 Jahre Jubiläumskonzert
DESCRIPTION:10 Jahre Big Peter’s Band Jubiläumskonzert Swing\, Latin & Funk\nLeitung: Sandro Miori  Gesang: Irene Spitzl-Kaukal \n 
URL:https://www.reigen.at/event/big-peter-band/
ATTACH;FMTTYPE=image/jpeg:https://www.reigen.at/wp-content/uploads/2023/07/Big_Peters_Band-Bild-Davis.jpeg
END:VEVENT
END:VCALENDAR