BEGIN:VCALENDAR
VERSION:2.0
PRODID:-//reigen.at - ECPv6.0.12//NONSGML v1.0//EN
CALSCALE:GREGORIAN
METHOD:PUBLISH
X-WR-CALNAME:reigen.at
X-ORIGINAL-URL:https://www.reigen.at
X-WR-CALDESC:Veranstaltungen für reigen.at
REFRESH-INTERVAL;VALUE=DURATION:PT1H
X-Robots-Tag:noindex
X-PUBLISHED-TTL:PT1H
BEGIN:VTIMEZONE
TZID:Europe/Berlin
BEGIN:DAYLIGHT
TZOFFSETFROM:+0100
TZOFFSETTO:+0200
TZNAME:CEST
DTSTART:20240331T010000
END:DAYLIGHT
BEGIN:STANDARD
TZOFFSETFROM:+0200
TZOFFSETTO:+0100
TZNAME:CET
DTSTART:20241027T010000
END:STANDARD
END:VTIMEZONE
BEGIN:VEVENT
DTSTART;TZID=Europe/Berlin:20240906T190000
DTEND;TZID=Europe/Berlin:20240906T230000
DTSTAMP:20260420T012722
CREATED:20240524T195233Z
LAST-MODIFIED:20240524T195935Z
UID:3575-1725649200-1725663600@www.reigen.at
SUMMARY:Hazai Standup
DESCRIPTION:Eine Veranstaltung von eventfrog.de \nKarten nur über den Link\, im Reigen keine Karten erhältlich! \nhttps://eventfrog.de/en/p/theatre-stage/comedy-cabaret/khalmi-zoltan-es-badar-sandor-becs-7196172087064524730.html
URL:https://www.reigen.at/event/hazai-standup/
LOCATION:REIGEN LIVE\, Hadikgasse 62\, Wien\, 1140\, Österreich
ATTACH;FMTTYPE=image/jpeg:https://www.reigen.at/wp-content/uploads/2024/05/becs-scaled.jpg
END:VEVENT
END:VCALENDAR