BEGIN:VCALENDAR
VERSION:2.0
PRODID:-//reigen.at - ECPv6.0.12//NONSGML v1.0//EN
CALSCALE:GREGORIAN
METHOD:PUBLISH
X-ORIGINAL-URL:https://www.reigen.at
X-WR-CALDESC:Veranstaltungen für reigen.at
REFRESH-INTERVAL;VALUE=DURATION:PT1H
X-Robots-Tag:noindex
X-PUBLISHED-TTL:PT1H
BEGIN:VTIMEZONE
TZID:Europe/Berlin
BEGIN:DAYLIGHT
TZOFFSETFROM:+0100
TZOFFSETTO:+0200
TZNAME:CEST
DTSTART:20240331T010000
END:DAYLIGHT
BEGIN:STANDARD
TZOFFSETFROM:+0200
TZOFFSETTO:+0100
TZNAME:CET
DTSTART:20241027T010000
END:STANDARD
END:VTIMEZONE
BEGIN:VEVENT
DTSTART;TZID=Europe/Berlin:20240911T203000
DTEND;TZID=Europe/Berlin:20240911T233000
DTSTAMP:20260420T013322
CREATED:20240105T111458Z
LAST-MODIFIED:20240730T085638Z
UID:2784-1726086600-1726097400@www.reigen.at
SUMMARY:Matti Klein Soul Trio
DESCRIPTION:35 Jahre Reigenlive Festival \nMatti Klein Soul Trio: Genre: Deep-Fried Contemporary Soul-Jazz Line-Up: \nMatti Klein – wurlitzer\, rhodes bass \nLars Zander – bass clarinet\, sax \nAndré Seidel – drums \nWas ist Soul? Ein mitreißender Musikstil\, sagen die einen. Ein überwältigendes Gefühl\, behaupten die anderen. Es ist das\, was uns unverwechselbar macht\, steht in den englischen Wörterbüchern. Jede dieser Definitionen trifft auf das Matti Klein Soul Trio zu\, aber letztere umschreibt das Wesen des im Jahr 2017 gegründeten Dreiergespanns besonders gut. Denn im Matti Klein Soul Trio haben sich drei Seelenverwandte im Namen des Grooves zusammengetan\, die einen eigenständigen Weg jenseits der viel betanzten Pfade der Hammond-Orgel-Trios beschreiten. Im Zentrum des Klanggeschehens stehen dabei die warmen Wurlitzer-Klänge des Bandleaders Matti Klein\, der mit der Funkjazz-Formation Mo‘ Blow und dem brasilianischen Yacht-Pop-Schwergewicht Ed Motta bereits die wichtigsten Jazzclubs in New York\, Tokyo\, London und Paris beehrte. \nDie wohligen tiefen Töne eines 1973er Fender Rhodes Piano-Bass sind ein ähnliches Alleinstellungsmerkmal der Gruppe wie der punktgenaue Einsatz von Sound-Effects des Tenorsaxofonisten und Bassklarinettisten Lars Zander. Das elastische Spiel von Drummer André Seidel sorgt dafür\, dass man dem Trio seine weitere Spezialität\, die unverkopfte Vorliebe für Odd Meters\, buchstäblich nicht krumm nimmt. Prominente Soul-Gourmets wie die BBC-Radiolegende Robert Elms oder Sänger Max Mutzke schwören auf die Songs des Trios\, in denen vibrierender Soul-Jazz und der Instrumental-Funk von The Meters oder The Crusaders organisch neben HipHop-Elementen oder spacigem Post-Rock stehen. Und auch die mediale Resonanz auf die bisherigen Alben und Live-Shows der Band (u.a. in Haiti\, Finnland oder bei einer UK-Tour) spricht eine klare Sprache. „Das groovt ungemein“\, urteilt der Deutschlandfunk\, während das britische Jazzwise-Magazin feststellt: „A new\, smoking‘ hot twist on the much-loved organ trio format. They deserve to be huge everywhere!“ \nPressezitate: \n“They deserve to be HUGE everywhere. (…) make sure you catch ‘em.“ JAZZWISE Live-Review \n„A really good album by keyboards player Matti Klein. I was really taken with this record and in fact I was gonna play it as my favourite track of the week.“ “Robert Elms – BBC London \n„Soul Trio is an authentic album drawing on vintage instruments with a 21st century attitude.“ Thomas Fletcher – Jazz Journal UK \n“A smokin‘ hot series of sessions featuring Klein and his superb band. Lars Zander on tenor is just sensational\, and his forays on bass clarinet add even more grit to the hard-swinging proceedings ****” JAZZWISE \n„Er spielt brilliant und gleichzeitig entspannt\, lässt die Melodien perlen und die Harmonien w \n 
URL:https://www.reigen.at/event/matti-klein-soul-trio/
ATTACH;FMTTYPE=image/jpeg:https://www.reigen.at/wp-content/uploads/2024/01/MattiKleinSoulTrio_cRobStirner_mittel-1-scaled.jpg
END:VEVENT
END:VCALENDAR