BEGIN:VCALENDAR
VERSION:2.0
PRODID:-//reigen.at - ECPv6.0.12//NONSGML v1.0//EN
CALSCALE:GREGORIAN
METHOD:PUBLISH
X-WR-CALNAME:reigen.at
X-ORIGINAL-URL:https://www.reigen.at
X-WR-CALDESC:Veranstaltungen für reigen.at
REFRESH-INTERVAL;VALUE=DURATION:PT1H
X-Robots-Tag:noindex
X-PUBLISHED-TTL:PT1H
BEGIN:VTIMEZONE
TZID:Europe/Berlin
BEGIN:DAYLIGHT
TZOFFSETFROM:+0100
TZOFFSETTO:+0200
TZNAME:CEST
DTSTART:20240331T010000
END:DAYLIGHT
BEGIN:STANDARD
TZOFFSETFROM:+0200
TZOFFSETTO:+0100
TZNAME:CET
DTSTART:20241027T010000
END:STANDARD
END:VTIMEZONE
BEGIN:VEVENT
DTSTART;TZID=Europe/Berlin:20240919T203000
DTEND;TZID=Europe/Berlin:20240919T233000
DTSTAMP:20260420T012845
CREATED:20240720T210957Z
LAST-MODIFIED:20240723T090114Z
UID:3948-1726777800-1726788600@www.reigen.at
SUMMARY:Sanat Deliorman Band
DESCRIPTION:35 Jahre Reigenlive Festival \nBorn in 1984 in Istanbul to painter parents\, Sanat Deliorman studied translation and graphic design at university. She sang as a contralto in the A Capella Boğaziçi jazz choir for two years and translated Janos Sipos‘ book „In the Wake of Bela Bartok in Anatolia“ into Turkish\, published in 2009. For over 15 years\, she worked as an editor\, and music critic for various institutions and festivals. Besides worked as a voice over artist for globally known brands. After taking jazz vocal lessons from reknown jazz singers in Turkey and visiting teachers from America\, she won a number of jazz competitions in 2011 and 2012. \nSoon after\, she formed her jazz group „Sanat Deliorman and Her Jazz Bros“\, tailoring concept jazz projects like Polish and Swedish jazz projects. Adapted jazz and pop songs into Turkish using her theatrical style\, also writing Turkish tangos and waltzes. Held concerts in Balkan countries\, Also she has been hosting the radio show „World’s Jazz“\, supporting Turkish and international  jazz musicians. Today Sanat gives private vocal lessons and acts as a mentor for jazz and pop singers living in Turkey. \nHer discography includes a single\, an EP\, and her debut album „Aşk Kumbarası“ (Love Bank) released in 2022. In 2023\, she released several singles\, including „Seslendim Sana“ (Called Out to You)\, „Devam Et“ (Go Ahead)\, and „Yürüyen Merdivenler“ (Escalators). \nNow she comes to Reigen to share with the Viennese audience\, a night of jazz standards and Turkish originals and adaptations. \nSanat Deliorman: Vocals \nArsén Gürer: Keys \nTimothy Luger: Bass \nGeorg Hinterberger: Drums \n 
URL:https://www.reigen.at/event/sanat-deliorman-band/
LOCATION:REIGEN LIVE\, Hadikgasse 62\, Wien\, 1140\, Österreich
ATTACH;FMTTYPE=image/webp:https://www.reigen.at/wp-content/uploads/2024/07/senat.webp
END:VEVENT
END:VCALENDAR