BEGIN:VCALENDAR
VERSION:2.0
PRODID:-//reigen.at - ECPv6.0.12//NONSGML v1.0//EN
CALSCALE:GREGORIAN
METHOD:PUBLISH
X-WR-CALNAME:reigen.at
X-ORIGINAL-URL:https://www.reigen.at
X-WR-CALDESC:Veranstaltungen für reigen.at
REFRESH-INTERVAL;VALUE=DURATION:PT1H
X-Robots-Tag:noindex
X-PUBLISHED-TTL:PT1H
BEGIN:VTIMEZONE
TZID:Europe/Berlin
BEGIN:DAYLIGHT
TZOFFSETFROM:+0100
TZOFFSETTO:+0200
TZNAME:CEST
DTSTART:20240331T010000
END:DAYLIGHT
BEGIN:STANDARD
TZOFFSETFROM:+0200
TZOFFSETTO:+0100
TZNAME:CET
DTSTART:20241027T010000
END:STANDARD
END:VTIMEZONE
BEGIN:VEVENT
DTSTART;TZID=Europe/Berlin:20240921T203000
DTEND;TZID=Europe/Berlin:20240921T203000
DTSTAMP:20260420T011244
CREATED:20231110T104515Z
LAST-MODIFIED:20240911T113405Z
UID:2506-1726950600-1726950600@www.reigen.at
SUMMARY:Mariana Mazu\, Leonardo Andersen Git\, Lysandre Donoso Bandoneon.
DESCRIPTION:35 Jahre Reigenlive Festival \n„Presenting my new Album I will be accompanied by one  of the country’s  leading guitarists\, Leonardo Anders as well as acclaimed French bandoneonist Lysandre Donoso. We are going to present my album. Includes tango\, flamenco as well as other Latin American genres like bolero\, balada and foxtrot.“ \n \n  \n \n 
URL:https://www.reigen.at/event/marianna-mazu-leonardo-andersen-git-lysandre-donoso-bandoneon/
LOCATION:REIGEN LIVE\, Hadikgasse 62\, Wien\, 1140\, Österreich
ATTACH;FMTTYPE=image/png:https://www.reigen.at/wp-content/uploads/2023/11/mariana.png
END:VEVENT
END:VCALENDAR