BEGIN:VCALENDAR
VERSION:2.0
PRODID:-//reigen.at - ECPv6.0.12//NONSGML v1.0//EN
CALSCALE:GREGORIAN
METHOD:PUBLISH
X-WR-CALNAME:reigen.at
X-ORIGINAL-URL:https://www.reigen.at
X-WR-CALDESC:Veranstaltungen für reigen.at
REFRESH-INTERVAL;VALUE=DURATION:PT1H
X-Robots-Tag:noindex
X-PUBLISHED-TTL:PT1H
BEGIN:VTIMEZONE
TZID:Europe/Berlin
BEGIN:DAYLIGHT
TZOFFSETFROM:+0100
TZOFFSETTO:+0200
TZNAME:CEST
DTSTART:20240331T010000
END:DAYLIGHT
BEGIN:STANDARD
TZOFFSETFROM:+0200
TZOFFSETTO:+0100
TZNAME:CET
DTSTART:20241027T010000
END:STANDARD
END:VTIMEZONE
BEGIN:VEVENT
DTSTART;TZID=Europe/Berlin:20241004T203000
DTEND;TZID=Europe/Berlin:20241004T233000
DTSTAMP:20260420T024344
CREATED:20240306T125400Z
LAST-MODIFIED:20240917T215425Z
UID:3305-1728073800-1728084600@www.reigen.at
SUMMARY:Stephan Graf - The Double Vision supp.  Theodor Strom
DESCRIPTION:35 Jahre Reigenlive Festival \nThe Double Vision. Der Name Rory Gallagher steht eng in Verbindung mit der Band\, die sich aber keinesfalls als Cover-Band versteht – vielmehr ist es die Herangehensweise an die Musik\, welche Rory geprägt hat. Die Tatsache\, dass Stephan Graf den Gesang sowie die Gitarre bei  „Gerry Mc Avoy´s Band of Friends“  übernimmt\, spiegelt Anerkennung durch die „oberste Instanz“ wieder. Das Öl im Rockgetriebe sind Robert Chudasch am Schlagzeug und Franz Ludwig am Bass. Durch seine überraschend frischen Schläge gewinnt Robert Chudasch schnell die Herzen des Publikums und zaubert das ein oder andere Lächeln in viele Gesichter. Die vibrierenden und dynamischen Saiten des Tieftöners runden das Ganze ab. Diese Rythmusgruppe peitscht vorwärts\, nicht nur Sänger und Gitarrist Stephan Graf sondern auch das Publikum. \nTheodor Strom:  Stephan Graf an der Gitarre und am Mikrofon löst den Zünder aus dessen Funken Benjamin Kettenbeil mit seiner Gitarre durch‘s Kabel Richtung Sprengung schickt. Robert Katke am Bass verdichtet den nötigen Sauerstoff und Michael Heyer am Schlagzeug bringt alles zur Explosion!
URL:https://www.reigen.at/event/stefan-graf/
LOCATION:REIGEN LIVE\, Hadikgasse 62\, Wien\, 1140\, Österreich
ATTACH;FMTTYPE=image/jpeg:https://www.reigen.at/wp-content/uploads/2024/03/Stephan-graf-scaled.jpg
END:VEVENT
END:VCALENDAR