BEGIN:VCALENDAR
VERSION:2.0
PRODID:-//reigen.at - ECPv6.0.12//NONSGML v1.0//EN
CALSCALE:GREGORIAN
METHOD:PUBLISH
X-ORIGINAL-URL:https://www.reigen.at
X-WR-CALDESC:Veranstaltungen für reigen.at
REFRESH-INTERVAL;VALUE=DURATION:PT1H
X-Robots-Tag:noindex
X-PUBLISHED-TTL:PT1H
BEGIN:VTIMEZONE
TZID:Europe/Berlin
BEGIN:DAYLIGHT
TZOFFSETFROM:+0100
TZOFFSETTO:+0200
TZNAME:CEST
DTSTART:20240331T010000
END:DAYLIGHT
BEGIN:STANDARD
TZOFFSETFROM:+0200
TZOFFSETTO:+0100
TZNAME:CET
DTSTART:20241027T010000
END:STANDARD
END:VTIMEZONE
BEGIN:VEVENT
DTSTART;TZID=Europe/Berlin:20241005T203000
DTEND;TZID=Europe/Berlin:20241005T233000
DTSTAMP:20260420T012240
CREATED:20231130T151137Z
LAST-MODIFIED:20240910T084130Z
UID:2589-1728160200-1728171000@www.reigen.at
SUMMARY:Die Sistas
DESCRIPTION:Die SISTAS sind zurück! Das stimmgewaltige Frauentrio der 2010-er Jahre mit Meena Cryle (Stimme\, Gitarre)\, Mary Broadcast (Stimme\, Gitarre\, Ukulele\, Percussion) und Anja Wiesinger (Stimme\, Percussion)\, hat sich wiedergefunden – und mit Andrea Fränzel (Kontrabass)\, Dani Schölm (Piano\, Organ) und Melissa Jank (Drums\, Percussion) drei weitere leidenschaftlich geniale Musikerinnen in einer neuen Formation zusammengeführt. Die SISTAS\, das ist authentischer Soul und Blues à la „Supremes“ und „Sweet Inspirations“! 2010 formierten sich die SISTAS als eine der ersten Frauenbands in Österreich. Bis heute ist jede einzelne „Sista“ konsequent ihren Weg gegangen und Musikerin geblieben. Die SISTAS sind allesamt durchaus bekannte Gesichter der österreichischen weiblichen Musikszene!\nIm Programm finden sich zu 2/3 Eigenkompositionen. Die Sängerinnen kennen sich seit über 30 Jahre\, sind Freundinnen\, Schwestern im Herzen\, aber doch sehr unterschiedlich und jede mit eigenem Charakter. Genau das spiegeln auch die Bandmusikerinnen wieder. Diese „Unterschiedlichkeit“ macht die Sistas Shows so begehrt und interessant. Die Sichtbarkeit der Weiblichkeit und das Abfeiern einer weiblichen\, selbstbewussten Musikkraft in einer Welt voller Männer – das sind die SISTAS! \n \n \n \nLinks:\nFacebook\nhttps://linktr.ee/die_sistas\nInstagram:\nhttps://bit.ly/3utQfSv
URL:https://www.reigen.at/event/die-sistas/
LOCATION:REIGEN LIVE\, Hadikgasse 62\, Wien\, 1140\, Österreich
ATTACH;FMTTYPE=image/jpeg:https://www.reigen.at/wp-content/uploads/2023/11/sistas-scaled.jpg
END:VEVENT
END:VCALENDAR