BEGIN:VCALENDAR
VERSION:2.0
PRODID:-//reigen.at - ECPv6.0.12//NONSGML v1.0//EN
CALSCALE:GREGORIAN
METHOD:PUBLISH
X-WR-CALNAME:reigen.at
X-ORIGINAL-URL:https://www.reigen.at
X-WR-CALDESC:Veranstaltungen für reigen.at
REFRESH-INTERVAL;VALUE=DURATION:PT1H
X-Robots-Tag:noindex
X-PUBLISHED-TTL:PT1H
BEGIN:VTIMEZONE
TZID:Europe/Berlin
BEGIN:DAYLIGHT
TZOFFSETFROM:+0100
TZOFFSETTO:+0200
TZNAME:CEST
DTSTART:20240331T010000
END:DAYLIGHT
BEGIN:STANDARD
TZOFFSETFROM:+0200
TZOFFSETTO:+0100
TZNAME:CET
DTSTART:20241027T010000
END:STANDARD
END:VTIMEZONE
BEGIN:VEVENT
DTSTART;TZID=Europe/Berlin:20241010T203000
DTEND;TZID=Europe/Berlin:20241010T233000
DTSTAMP:20260420T072745
CREATED:20240224T233535Z
LAST-MODIFIED:20240712T122349Z
UID:3257-1728592200-1728603000@www.reigen.at
SUMMARY:Peter Karp Band
DESCRIPTION:35 Jahre Reigenlive Festival \n“Guys like Peter Karp\, James Taylor and Bob Dylan embody Americana Blues\, and us English guys are inspired by it.” — Mick Taylor\, The Rolling Stones \nDie Peter Karp Band ist eine Superband\, die von dem preisgekrönten Singer-Songwriter\, Gitarristen\, Pianisten und Bandleader aus Nashville\, Tennessee (USA)\, gegründet wurde. Peter Karp hat mit seinem unverwechselbaren lyrischen Songwriting\, seinem vollendeten Slide-Gitarren- und energievollen Pianospiel sowie seinen dynamischen Bühnenauftritten einen ganz eigenen Stil in der amerikanischen Musik entwickelt. Er bewegt sich durch die feurigen Genres der Roots-Blues Musik und bringt eine originelle Mischung von Klängen und Songs hervor\, die Journalisten als „Soul-influenced Americana-Blues Rock“ bezeichnet haben. \nIn seinen früheren Bands arbeitete er mit dem legendären Rolling Stones Gitarristen Mick Taylor\, dem New Yorker BluesRocker Popa Chubby und der SingerSongwriterin und Gitarristin Sue Foley aus Austin\, TX zusammen. Zitat von Mick Taylor: „Leute wie Peter Karp\, James Taylor und Bob Dylan verkörpern den Americana Blues\, und wir englischen Musiker sind davon inspiriert.“                                                                                                                                In seiner Band für die Europatournee im Herbst 2024 spielt der großartige Electric & Slide-Gitarrist Mark Johnson aus Atlanta\, GA\, Mitbegründer der legendären von der internationalen Musikpresse gefeierten Southern-Roots-Rock Band Delta Moon. \nDie groovende Rhythmusgruppe bilden die 2 außergewöhnlichen Brüder Marco und Paolo Xeres. Die am Lago di Como in Norditalien lebenden Xeres-Brothers spielen seit 40 Jahren zusammen und haben viele berühmte Musiker aus der ganzen Welt begleitet\, darunter Kenny Neal\, John Mooney\, Louisiana Red und auch Delta Moon. Peter Karp nennt diese Bandbesetzung „die beste\, mit der ich je gespielt habe“. Auf der Herbst-Tour wird er seine neueste CD „Alive!“ vorstellen. Aufgenommen in den USA\, ist „Alive!“ eine elektrisierendes Live Album\, das einige neuere und auch seltene Songs von Karp enthält. \nDie CD wird nur auf dieser Tournee erhältlich sein und als besonderes Giveaway an seine Fans erhalten alle\, die eine reguläre CD erwerben\, das Livealbum „Alive!“ als Geschenk dazu! \n \n 
URL:https://www.reigen.at/event/peter-karp-band/
LOCATION:REIGEN LIVE\, Hadikgasse 62\, Wien\, 1140\, Österreich
ATTACH;FMTTYPE=image/jpeg:https://www.reigen.at/wp-content/uploads/2024/02/Peter-Karp.jpg
END:VEVENT
END:VCALENDAR