BEGIN:VCALENDAR
VERSION:2.0
PRODID:-//reigen.at - ECPv6.0.12//NONSGML v1.0//EN
CALSCALE:GREGORIAN
METHOD:PUBLISH
X-WR-CALNAME:reigen.at
X-ORIGINAL-URL:https://www.reigen.at
X-WR-CALDESC:Veranstaltungen für reigen.at
REFRESH-INTERVAL;VALUE=DURATION:PT1H
X-Robots-Tag:noindex
X-PUBLISHED-TTL:PT1H
BEGIN:VTIMEZONE
TZID:Europe/Berlin
BEGIN:DAYLIGHT
TZOFFSETFROM:+0100
TZOFFSETTO:+0200
TZNAME:CEST
DTSTART:20240331T010000
END:DAYLIGHT
BEGIN:STANDARD
TZOFFSETFROM:+0200
TZOFFSETTO:+0100
TZNAME:CET
DTSTART:20241027T010000
END:STANDARD
END:VTIMEZONE
BEGIN:VEVENT
DTSTART;TZID=Europe/Berlin:20241011T203000
DTEND;TZID=Europe/Berlin:20241011T233000
DTSTAMP:20260420T085240
CREATED:20240221T154245Z
LAST-MODIFIED:20240710T230037Z
UID:3209-1728678600-1728689400@www.reigen.at
SUMMARY:Jay Howie Trio
DESCRIPTION:35 Jahre Reigenlive Festival \nJay Howie Trio – Hervorgegangen aus den rauchigen Landschaften des australischen Bundesstaats Victoria\, ist das Trio auf dem besten Weg\, zu einer unwiderstehlichen Kraft im Bereich des Blues-Rocks zu werden. Der charismatische Jay Howie\, dessen Seele tief in den Wurzeln des Blues\, Rocks und Folks verankert ist\, durchwebt seine künstlerische Schöpfung mit einem gefühlvollen Geschichtenerzählen\, das die Herzen in seinen Bann zieht
URL:https://www.reigen.at/event/jay-howie-trio/
LOCATION:REIGEN LIVE\, Hadikgasse 62\, Wien\, 1140\, Österreich
ATTACH;FMTTYPE=image/jpeg:https://www.reigen.at/wp-content/uploads/2024/02/jay-Howie.jpeg
END:VEVENT
END:VCALENDAR