BEGIN:VCALENDAR
VERSION:2.0
PRODID:-//reigen.at - ECPv6.0.12//NONSGML v1.0//EN
CALSCALE:GREGORIAN
METHOD:PUBLISH
X-WR-CALNAME:reigen.at
X-ORIGINAL-URL:https://www.reigen.at
X-WR-CALDESC:Veranstaltungen für reigen.at
REFRESH-INTERVAL;VALUE=DURATION:PT1H
X-Robots-Tag:noindex
X-PUBLISHED-TTL:PT1H
BEGIN:VTIMEZONE
TZID:Europe/Berlin
BEGIN:DAYLIGHT
TZOFFSETFROM:+0100
TZOFFSETTO:+0200
TZNAME:CEST
DTSTART:20240331T010000
END:DAYLIGHT
BEGIN:STANDARD
TZOFFSETFROM:+0200
TZOFFSETTO:+0100
TZNAME:CET
DTSTART:20241027T010000
END:STANDARD
END:VTIMEZONE
BEGIN:VEVENT
DTSTART;TZID=Europe/Berlin:20241012T203000
DTEND;TZID=Europe/Berlin:20241012T233000
DTSTAMP:20260420T104413
CREATED:20240910T091256Z
LAST-MODIFIED:20240918T112927Z
UID:4187-1728765000-1728775800@www.reigen.at
SUMMARY:Jonn Del Toro Richardson Trio (Texas)
DESCRIPTION:Er hat sein ganzes Leben lang Musik gemacht und ist zusammen mit seiner Großmutter und seinen Geschwistern mit einer Mariachi-Gruppe aufgetreten\, die in der mexikanischen Tradition verwurzelt ist\, wobei er Instrumente wie Geigen und verschiedene Arten von Gitarren verwendet. In seinen Zwanzigern begann er\, andere Musikgenres zu erkunden (hauptsächlich Country\, Motown\, R&B und klassischer Rock) und entdeckte schließlich den Blues\, der sich als die Musiksprache herausstellte\, die am besten zu ihm passte. Er interpretiert es auf einzigartige Weise und verbindet eine breite Palette von Stilen mit dem wunderschönen Klang seiner Gitarre\, vom Texas-Blues bis zum Latin-Funk.\n2005 nahm er mit der Blue Mercy Band und der Sängerin Diunna Greenleaf an der International Blues Challenge in Memphis teil. Die Band gewann den ersten Platz und Jonn erhielt den Albert King Award als „vielversprechendster“ Gitarrist. 2008 wurde ihr Album „Cotton Field to Coffee House“ mit einem Blues Music Award in der Kategorie „Best New Artist Debut“ ausgezeichnet.\n2013 nahm er zusammen mit Sean Carney ein Album mit dem Titel Drivin' Me Wild auf.                                               2015 veröffentlichte Jonn sein Solodebüt mit dem Titel Tengo Blues\, das für einen Blues Blast Music Award nominiert wurde. Jonn hat auch an der Aufnahme von drei Alben mit Diunna Greenleaf mitgewirkt und war auf dem Grammy-prämierten Album von Pinetop Perkins zu hören.\n\nJONN DEL TORO RICHARDSON – guitar\, vocals\nTanya Richardson – bass\nRichard Cholakian – drums\n \n\n\n\n\n\n\n\nhttps://youtu.be/t-rMfiQzQIA?si=CygyLp5CIM1fp_UY\n\n\n\n\n\n\nhttps://youtu.be/68zhaCsvDZk?si=NqYBgEsF5pTvpTLq\n\n\n\nhttps://youtu.be/68zhaCsvDZk?si=Jfkldcx5I2Jqw44J\n\n\n\n\n\n\n\n\n\n\n\n\n\n\n\n\n\n\n\n\n\n\n\n\n\n\n\n\n\n\n\n\n\n\n\n\n\n\n\n\n\n\n 
URL:https://www.reigen.at/event/jonn-del-toro-richardson-trio-texas/
LOCATION:REIGEN LIVE\, Hadikgasse 62\, Wien\, 1140\, Österreich
ATTACH;FMTTYPE=image/jpeg:https://www.reigen.at/wp-content/uploads/2024/09/Richardson.jpg
END:VEVENT
END:VCALENDAR