BEGIN:VCALENDAR
VERSION:2.0
PRODID:-//reigen.at - ECPv6.0.12//NONSGML v1.0//EN
CALSCALE:GREGORIAN
METHOD:PUBLISH
X-ORIGINAL-URL:https://www.reigen.at
X-WR-CALDESC:Veranstaltungen für reigen.at
REFRESH-INTERVAL;VALUE=DURATION:PT1H
X-Robots-Tag:noindex
X-PUBLISHED-TTL:PT1H
BEGIN:VTIMEZONE
TZID:Europe/Berlin
BEGIN:DAYLIGHT
TZOFFSETFROM:+0100
TZOFFSETTO:+0200
TZNAME:CEST
DTSTART:20240331T010000
END:DAYLIGHT
BEGIN:STANDARD
TZOFFSETFROM:+0200
TZOFFSETTO:+0100
TZNAME:CET
DTSTART:20241027T010000
END:STANDARD
END:VTIMEZONE
BEGIN:VEVENT
DTSTART;TZID=Europe/Berlin:20241016T203000
DTEND;TZID=Europe/Berlin:20241016T233000
DTSTAMP:20260420T132128
CREATED:20240217T161454Z
LAST-MODIFIED:20240908T112733Z
UID:3183-1729110600-1729121400@www.reigen.at
SUMMARY:Aynsley Lister support:  I.O.T.P.
DESCRIPTION:35 Jahre Reigenlive Festival \nAynsley Lister has been at the top of the Blues scene for over two decades\, billed as one of the most exciting contemporary Blues guitarists around today.Known not only for his exceptional guitar playing\, he is also a highly regarded songwriter whose passion for music crosses genres\, effortlessly combining blues\, soul\, Americana\, rock and sometimes even pop elements.\nOn this tour\, Aynsley presents his new studio album “Along For The Ride”\, released on November 11th 2022 via his own label Straight Talkin’ Records\, which he co-founded with his wife Stephanie. The new release offers 13 songs – stories from everyday life about relationships\, loss\, feelings and life itself in all its facets\, embedded in catchy melodies\, rocking riffs\, virtuoso guitar solos and an energetic mixture of modern elements and traditional blues. \nSupport: I.O.T.P. ( Isle of Tone Project ) ist das international arbeitende und Generationen übergreifende Southern-/Rhythm&Bluesrock Musikprojekt des gebürtigen Salzburgers Johannes „Joe“ Huber.\nSeit 2020 entstanden mittlerweile unzählige Aufnahmen ( mit ua. Richard Fortus\, Doug Aldrich\, Joey Landreth\, DeWolff und vielen weiteren Künstlern ) welche nun endlich im Laufe der nächsten 10 Monate veröffentlicht werden sollen.\nDie aktuelle Live Besetzung rund um Stefan Meixner ( Voc.)\, Christoph Roither ( Bass/Voc )\, Alex Bruckmoser ( Drums )\, Wolfgang „Groovemiller“ Grubmüller und Joe Huber ( Git/Voc) wird den Abend in bester „early 70s“ Manier eröffnen und dem Publikum ordentlich einheizen bevor‘s dann im November mit der aus dem eisigen Island stammenden Band KALEO auf Tour geht. \n  \n  \n  \n  \n  \n 
URL:https://www.reigen.at/event/aynsley-lister-2/
LOCATION:REIGEN LIVE\, Hadikgasse 62\, Wien\, 1140\, Österreich
ATTACH;FMTTYPE=image/jpeg:https://www.reigen.at/wp-content/uploads/2024/02/lister.jpg
END:VEVENT
END:VCALENDAR