BEGIN:VCALENDAR
VERSION:2.0
PRODID:-//reigen.at - ECPv6.0.12//NONSGML v1.0//EN
CALSCALE:GREGORIAN
METHOD:PUBLISH
X-ORIGINAL-URL:https://www.reigen.at
X-WR-CALDESC:Veranstaltungen für reigen.at
REFRESH-INTERVAL;VALUE=DURATION:PT1H
X-Robots-Tag:noindex
X-PUBLISHED-TTL:PT1H
BEGIN:VTIMEZONE
TZID:Europe/Berlin
BEGIN:DAYLIGHT
TZOFFSETFROM:+0100
TZOFFSETTO:+0200
TZNAME:CEST
DTSTART:20240331T010000
END:DAYLIGHT
BEGIN:STANDARD
TZOFFSETFROM:+0200
TZOFFSETTO:+0100
TZNAME:CET
DTSTART:20241027T010000
END:STANDARD
END:VTIMEZONE
BEGIN:VEVENT
DTSTART;TZID=Europe/Berlin:20241017T203000
DTEND;TZID=Europe/Berlin:20241017T233000
DTSTAMP:20260420T132027
CREATED:20240308T122724Z
LAST-MODIFIED:20241002T124938Z
UID:3323-1729197000-1729207800@www.reigen.at
SUMMARY:Gary Fletcher Band ABSAGE!!
DESCRIPTION:Das Konzert muss leider wegen medizinischer Probleme abgesagt werden. Nachricht Agentur: Es tut uns sehr leid\, dass die für Oktober 2024 geplante Tournee der Gary Fletcher Band aus gesundheitlichen Gründen abgesagt werden muss \n35 Jahre Reigenlive Festival \nCelebrating the music of THE BLUES BAND\nGary Fletcher\, der zusammen mit Paul Jones\, Tom McGuinness und Dave Kelly The Blues Band gegründet hat und während ihrer langen und erfolgreichen Karriere immer dabei war\, ist auch mit Peter Green\, Maggie Bell\, Van Morrison\, John Mayall\, Long John Baldry\, Guy Barker\, Bernie Marsden\, Micky Moody\, Kim Simmonds\, Henry McCullough\, Zoot Money\, Nat Adderley\, den Memphis Horns usw. aufgetreten und/oder hat mit ihnen Aufnahmen gemacht.\nGary Fletcher\, der einige der bekanntesten Songs von The Blues Band geschrieben hat (vor allem Greenstuff“)\, begann erst in den späten 90er Jahren\, eigene Aufnahmen zu machen. The Official Gary Fletcher Bootleg Album„ war die erste Solo-Veröffentlichung\, gefolgt von Human Spirit“\, auf der eine Reihe von Freunden als Gastmusiker mitwirkten\, darunter Bernie Marsden\, Micky Moody\, Paul Jones\, Dave Kelly\, Steve Simpson\, Mark Feltham und Denis Greaves. Mitte der 2000er Jahre begann er mit Solokonzerten und später mit seiner kompletten Band. Bis 2009 gehörten der ehemalige Dire-Straits-Schlagzeuger Pick Withers\, Steve Ling an der Leadgitarre und Jack Fletcher am Bass zur Band. In dieser Besetzung erschien 2010 das Album „Giant From the Blue“.\nDa der Tournee- und Aufnahmeplan von The Blues Band viel Zeit in Anspruch nahm\, waren die Möglichkeiten für die Gary Fletcher Band\, auf Tournee zu gehen\, begrenzt\, aber nichtsdestotrotz spielte die Band weiterhin Festival- und Clubshows\, wenn es die Zeit erlaubte. Mit einem Haufen neuem Material begann Gary mit den Aufnahmen zu seinem neuen Album ‚River Keeps Flowing‘ und kommt nun im Oktober auf Tournee! \nGary Fletcher (The Blues Band\, Sam Apple Pie\, British Blues Allstars) guitar\, slide\, mandolin\, banjo\, vocal\nTom Leary (Lindisfarne\, Joe Brown\, Phil Bates) violin\, mandolin\nAndy Billups (The Hamsters) bass\, lap steel\, dobro\nNick Ritchie (Canto\, Mud) lead guitar and vocals\nSam Kelly (Tom Robinson\, Circulus\, The Blues Band) drums and vocals \n  \n 
URL:https://www.reigen.at/event/reserviert-6/
LOCATION:REIGEN LIVE\, Hadikgasse 62\, Wien\, 1140\, Österreich
ATTACH;FMTTYPE=image/jpeg:https://www.reigen.at/wp-content/uploads/2024/03/gary-fletcher.jpg
END:VEVENT
END:VCALENDAR