BEGIN:VCALENDAR
VERSION:2.0
PRODID:-//reigen.at - ECPv6.0.12//NONSGML v1.0//EN
CALSCALE:GREGORIAN
METHOD:PUBLISH
X-ORIGINAL-URL:https://www.reigen.at
X-WR-CALDESC:Veranstaltungen für reigen.at
REFRESH-INTERVAL;VALUE=DURATION:PT1H
X-Robots-Tag:noindex
X-PUBLISHED-TTL:PT1H
BEGIN:VTIMEZONE
TZID:Europe/Berlin
BEGIN:DAYLIGHT
TZOFFSETFROM:+0100
TZOFFSETTO:+0200
TZNAME:CEST
DTSTART:20240331T010000
END:DAYLIGHT
BEGIN:STANDARD
TZOFFSETFROM:+0200
TZOFFSETTO:+0100
TZNAME:CET
DTSTART:20241027T010000
END:STANDARD
END:VTIMEZONE
BEGIN:VEVENT
DTSTART;TZID=Europe/Berlin:20241018T203000
DTEND;TZID=Europe/Berlin:20241018T233000
DTSTAMP:20260420T132129
CREATED:20240413T100657Z
LAST-MODIFIED:20241015T212712Z
UID:3416-1729283400-1729294200@www.reigen.at
SUMMARY:Yasi Hofer
DESCRIPTION:35 Jahre Reigenlive Festival \nYASI HOFER\, 1992 in Ulm geboren\, begann ihre musikalische Karriere mit der Geige\, wechselte dann aber im Alter von 12 Jahren zur E-Gitarre. Ihr Talent und ihr Können an der Gitarre entdeckte kein geringerer als „Gitarrengott“ STEVE VAI\, und holte Yasi als 14-Jährige erstmals zu ihm auf die Bühne. Noch heute jammen die beiden immer wieder bei seinen Europa Tourneen zusammen.\nYASI begann ein Musikstudium an der Musikhochschule Stuttgart mit gerade mal 16 Jahren aufgrund einer bestandenen Begabtenprüfung. Nur drei Semester später ging es mit einem Stipendium an das Berklee College of Music nach Boston. Mit all ihrem erlernten Wissen und Können produzierte sie bereits 4 Alben\, ausnahmslos Eigenkompositionen:\nYASI (2014)\, FAITH (2016)\, FREEDOM (2018) und BETWEEN THE LINES (2023). Bei Letzterem hat der renommierte Sound-Engineer MIKE PLOTNIKOFF in Los Angeles mitgewirkt.
URL:https://www.reigen.at/event/yasi-hofer/
LOCATION:REIGEN LIVE\, Hadikgasse 62\, Wien\, 1140\, Österreich
ATTACH;FMTTYPE=image/jpeg:https://www.reigen.at/wp-content/uploads/2024/04/image00002-scaled.jpeg
END:VEVENT
END:VCALENDAR