BEGIN:VCALENDAR
VERSION:2.0
PRODID:-//reigen.at - ECPv6.0.12//NONSGML v1.0//EN
CALSCALE:GREGORIAN
METHOD:PUBLISH
X-WR-CALNAME:reigen.at
X-ORIGINAL-URL:https://www.reigen.at
X-WR-CALDESC:Veranstaltungen für reigen.at
REFRESH-INTERVAL;VALUE=DURATION:PT1H
X-Robots-Tag:noindex
X-PUBLISHED-TTL:PT1H
BEGIN:VTIMEZONE
TZID:Europe/Berlin
BEGIN:DAYLIGHT
TZOFFSETFROM:+0100
TZOFFSETTO:+0200
TZNAME:CEST
DTSTART:20240331T010000
END:DAYLIGHT
BEGIN:STANDARD
TZOFFSETFROM:+0200
TZOFFSETTO:+0100
TZNAME:CET
DTSTART:20241027T010000
END:STANDARD
END:VTIMEZONE
BEGIN:VEVENT
DTSTART;TZID=Europe/Berlin:20241023T203000
DTEND;TZID=Europe/Berlin:20241023T233000
DTSTAMP:20260420T150015
CREATED:20240903T115435Z
LAST-MODIFIED:20240903T230246Z
UID:4152-1729715400-1729726200@www.reigen.at
SUMMARY:Atempo - Jazz Trio from Israel
DESCRIPTION:35 Years Reigenlive Festival\nAtempo ist ein modernes Jazz-Piano-Trio\, das seit mehr als vier Jahren in Israel\, Europa und den USA aktiv ist.\nDas Atempo Trio wurde während der Covid-Zeit von drei vielbeschäftigten Musikern gegründet\, die die Möglichkeit erkannten\, ihre zusätzliche Zeit in das Schaffen von Musik zu investieren. \nIm September 2021 nahm Atempo ihr Debütalbum auf und trat an vielen Veranstaltungsorten und bei privaten Veranstaltungen auf. Seitdem verbringen sie ihre Zeit im Studio und arbeiten an ihrem zweiten Album. \nDie Mitglieder von Atempo komponieren und spielen Musik\, die sich durch eine Verschmelzung von Stilen auszeichnet\, die von mediterranen\, balkanischen\, lateinamerikanischen\, afrikanischen und anderen Musiktraditionen beeinflusst sind\, wie es in ihrem Debütalbum „Masa Beha“ („A Journey Within You“) zum Ausdruck kommt bezieht sich auf die Reise\, die Zuhörer durchlaufen\, während sie Atempos Kompositionen erleben.\nAtempo sprengt die Grenzen des Genres mit ihrem einzigartigen Sound\, der auf den vielfältigen musikalischen Einflüssen jedes seiner Mitglieder beruht.\n Band PicCredit : O. K photography
URL:https://www.reigen.at/event/atempo-jazz-trio-from-israel/
LOCATION:REIGEN LIVE\, Hadikgasse 62\, Wien\, 1140\, Österreich
ATTACH;FMTTYPE=image/jpeg:https://www.reigen.at/wp-content/uploads/2024/09/AtempoJazz_240325_201-Copy1-3.jpg
END:VEVENT
END:VCALENDAR