BEGIN:VCALENDAR
VERSION:2.0
PRODID:-//reigen.at - ECPv6.0.12//NONSGML v1.0//EN
CALSCALE:GREGORIAN
METHOD:PUBLISH
X-ORIGINAL-URL:https://www.reigen.at
X-WR-CALDESC:Veranstaltungen für reigen.at
REFRESH-INTERVAL;VALUE=DURATION:PT1H
X-Robots-Tag:noindex
X-PUBLISHED-TTL:PT1H
BEGIN:VTIMEZONE
TZID:Europe/Berlin
BEGIN:DAYLIGHT
TZOFFSETFROM:+0100
TZOFFSETTO:+0200
TZNAME:CEST
DTSTART:20240331T010000
END:DAYLIGHT
BEGIN:STANDARD
TZOFFSETFROM:+0200
TZOFFSETTO:+0100
TZNAME:CET
DTSTART:20241027T010000
END:STANDARD
END:VTIMEZONE
BEGIN:VEVENT
DTSTART;TZID=Europe/Berlin:20241024T203000
DTEND;TZID=Europe/Berlin:20241024T233000
DTSTAMP:20260420T132139
CREATED:20240627T223822Z
LAST-MODIFIED:20240712T023938Z
UID:3786-1729801800-1729812600@www.reigen.at
SUMMARY:Vinnie Moore
DESCRIPTION:35 Jahre Reigenlive Festival \nVinnie Moore fing mit 12 Jahren an\, Gitarre zu spielen und trat drei Jahre später seiner ersten Band bei. Entdeckt wurde er von Mike Varney\, dem Gründer und Produzent der Plattenfirma Shrapnel Records\, der ihn in der Kolumne „Spotlight“ des Magazins Guitar Player positiv erwähnte. Dieses Ereignis führte zu einem Vertrag mit Pepsi für einen Werbespot. Seit der Veröffentlichung seines Debüt-Albums Mind’s Eye 1986 ging seine Karriere steil bergauf.\nNeben seinem Soloprojekt spielte Moore auch auf dem Vicious-Rumors-Album Soldiers of the Night von 1985\, auf dem Alice-Cooper-Album Hey Stoopid von 1991 und auf dem 1994 erschienenen Deep-Purple-Tributealbum Smoke on the Water. 2004 spielte er zudem als Gastmusiker auf dem Album Rhythm of Time des Dream-Theater-Keyboarders Jordan Rudess sowie ein paar Jahre später als Studiogitarrist auf dem Album D.E.V.O.L.U.T.I.O.N. der deutschen Thrash-Metal-Band Destruction\, wobei erwähnenswert ist\, dass die musikalische Beziehung zwischen dem Destruction-Bandleader Schmier und Moore auf der Frankfurter Musikmesse hergestellt wurde. Hot Licks Productions veröffentlichte außerdem zwei Gitarren-Lehrvideos von Moore: Advanced Lead Guitar Techniques (1987) und Speed\, Accuracy\, & Articulation (1989).\nSeit 2003 ist Vinnie Moore Gitarrist von UFO\, wo er den abermals ausgestiegenen Michael Schenker ersetzte. Moore wirkte dort an den Alben You Are Here von 2004 sowie dem 2006 erschienenen The Monkey Puzzle mit und unternahm mit der Band in der Folgezeit mehrere (Welt-)Tourneen\, auf der 2005 in Wilhelmshaven der Livemitschnitt Showtime entstand. 2009 spielte er das Album The Visitor sowie 2012 Seven Deadly ein. 2015 folgte „A Conspiracy Of Stars“ und 2017 das Coveralbum The Salentino Cuts. (Wikipedia)
URL:https://www.reigen.at/event/vinnie-moore/
LOCATION:REIGEN LIVE\, Hadikgasse 62\, Wien\, 1140\, Österreich
ATTACH;FMTTYPE=image/jpeg:https://www.reigen.at/wp-content/uploads/2023/06/20220511_01.jpg
END:VEVENT
END:VCALENDAR