BEGIN:VCALENDAR
VERSION:2.0
PRODID:-//reigen.at - ECPv6.0.12//NONSGML v1.0//EN
CALSCALE:GREGORIAN
METHOD:PUBLISH
X-WR-CALNAME:reigen.at
X-ORIGINAL-URL:https://www.reigen.at
X-WR-CALDESC:Veranstaltungen für reigen.at
REFRESH-INTERVAL;VALUE=DURATION:PT1H
X-Robots-Tag:noindex
X-PUBLISHED-TTL:PT1H
BEGIN:VTIMEZONE
TZID:Europe/Berlin
BEGIN:DAYLIGHT
TZOFFSETFROM:+0100
TZOFFSETTO:+0200
TZNAME:CEST
DTSTART:20240331T010000
END:DAYLIGHT
BEGIN:STANDARD
TZOFFSETFROM:+0200
TZOFFSETTO:+0100
TZNAME:CET
DTSTART:20241027T010000
END:STANDARD
END:VTIMEZONE
BEGIN:VEVENT
DTSTART;TZID=Europe/Berlin:20241030T203000
DTEND;TZID=Europe/Berlin:20241030T233000
DTSTAMP:20260420T114448
CREATED:20240812T111539Z
LAST-MODIFIED:20240822T221704Z
UID:4091-1730320200-1730331000@www.reigen.at
SUMMARY:Mario Bakuna feat. Edmundo Carneiro - Tribute to Joao Gilberto
DESCRIPTION:35 Jahre Reigenlive Festival – A Tribute to João Gilberto – the ‚father of Bossa Nova‘ by Mario Bakuna \n\nMario Bakuna on acoustic guitar and vocals  Special guest: Edmundo Carneiro on percussion. \n\nAfter sold-out nights in the UK\, Portugal\, Sapin\, France and the Netherlands\, Mario Bakuna is delighted to perform this special concert in Vienna at Reigen Live. He invites the audience to celebrate one of the greatest Brazilian musicians of all time.  João Gilberto\, the great pioneer and father of Bossa Nova in Brazil in the late fifties\, is the focus of this special concert performed on guitar and vocals by acclaimed Brazilian guitarist and singer Mario Bakuna. Featuring reinterpretations and Mario’s compositions\, the audience will be treated to traditional elements of samba\, syncopated rhythms of plucked chords\, along with more contemporary jazz. \nEdmundo Carneiro is a Brazilian percussionist based in Paris for over 30 years\, Edmundo Carneiro toured over 66 countries and worked with international music figures such as Baden Powell\, Tânia Maria\, Steve Gadd\, Ana de Hollanda\, Rosinha de Valença\, Antony Jackson\, Monica Passos\, Chucho Valdes. Percussionist of his own style\, Carneiro also experienced electronic music by working with several artists and DJs such as Saint-Germain\, Next Evidence\, Bob Sinclar\, Schazz\, Rive Gauche\, Charles Schilling\, Stéphane Pompougnac. \n“More than a percussionist\, Edmundo Carneiro is a magician”  (Maria de Medeiros)  \n \nhttps://youtu.be/i8f5jxuzASE?si=Hn8z_04dalFQ0ljH
URL:https://www.reigen.at/event/mario-bakuna-solo-tribute-to-joao-gilberto/
LOCATION:REIGEN LIVE\, Hadikgasse 62\, Wien\, 1140\, Österreich
ATTACH;FMTTYPE=image/jpeg:https://www.reigen.at/wp-content/uploads/2024/08/Mario-Bakuna_promopic2-1-scaled.jpg
END:VEVENT
END:VCALENDAR