BEGIN:VCALENDAR
VERSION:2.0
PRODID:-//reigen.at - ECPv6.0.12//NONSGML v1.0//EN
CALSCALE:GREGORIAN
METHOD:PUBLISH
X-WR-CALNAME:reigen.at
X-ORIGINAL-URL:https://www.reigen.at
X-WR-CALDESC:Veranstaltungen für reigen.at
REFRESH-INTERVAL;VALUE=DURATION:PT1H
X-Robots-Tag:noindex
X-PUBLISHED-TTL:PT1H
BEGIN:VTIMEZONE
TZID:Europe/Berlin
BEGIN:DAYLIGHT
TZOFFSETFROM:+0100
TZOFFSETTO:+0200
TZNAME:CEST
DTSTART:20240331T010000
END:DAYLIGHT
BEGIN:STANDARD
TZOFFSETFROM:+0200
TZOFFSETTO:+0100
TZNAME:CET
DTSTART:20241027T010000
END:STANDARD
END:VTIMEZONE
BEGIN:VEVENT
DTSTART;TZID=Europe/Berlin:20241106T203000
DTEND;TZID=Europe/Berlin:20241106T233000
DTSTAMP:20260420T121322
CREATED:20240124T105447Z
LAST-MODIFIED:20240710T224903Z
UID:2954-1730925000-1730935800@www.reigen.at
SUMMARY:Deltaphonics
DESCRIPTION:Vienna Jazzfloor 2024 \nDeltaphonic is one of those bands who are out there creating their own genre. It’s rock ‘n roll\, but it’s mixed with New Orleans funk\, soul\, and Hill Country blues. –American Blues Scene \nAnchored by band leader Andrew T. Weekes’ innovative songwriting aesthetic\, and empowered by the prodigious musicality and production genius of guitar wizard Paul Provosty (Flowtribe\, Earphunk)\, drummer/vocalist Trenton O’Neal (The Rumble)\, and slide player Logan Sellers (Lembo)\, Deltaphonic’s versatile sound continues to expand while simultaneously becoming more cohesive. \n  \n 
URL:https://www.reigen.at/event/deltaphonics/
LOCATION:REIGEN LIVE\, Hadikgasse 62\, Wien\, 1140\, Österreich
ATTACH;FMTTYPE=image/webp:https://www.reigen.at/wp-content/uploads/2024/01/Deltaphonic-Press-Photo-2_JPG.webp
END:VEVENT
END:VCALENDAR