BEGIN:VCALENDAR
VERSION:2.0
PRODID:-//reigen.at - ECPv6.0.12//NONSGML v1.0//EN
CALSCALE:GREGORIAN
METHOD:PUBLISH
X-WR-CALNAME:reigen.at
X-ORIGINAL-URL:https://www.reigen.at
X-WR-CALDESC:Veranstaltungen für reigen.at
REFRESH-INTERVAL;VALUE=DURATION:PT1H
X-Robots-Tag:noindex
X-PUBLISHED-TTL:PT1H
BEGIN:VTIMEZONE
TZID:Europe/Berlin
BEGIN:DAYLIGHT
TZOFFSETFROM:+0100
TZOFFSETTO:+0200
TZNAME:CEST
DTSTART:20240331T010000
END:DAYLIGHT
BEGIN:STANDARD
TZOFFSETFROM:+0200
TZOFFSETTO:+0100
TZNAME:CET
DTSTART:20241027T010000
END:STANDARD
END:VTIMEZONE
BEGIN:VEVENT
DTSTART;TZID=Europe/Berlin:20241107T203000
DTEND;TZID=Europe/Berlin:20241107T233000
DTSTAMP:20260420T114532
CREATED:20240513T185739Z
LAST-MODIFIED:20240710T224813Z
UID:3543-1731011400-1731022200@www.reigen.at
SUMMARY:Lance Lopez - US | Bluesrock
DESCRIPTION:Vienna Jazzfloor 2024 \nLance Lopez\, der gefeierte Bluesrock- und Texas-Blues-Künstler\, wurde maßgeblich von Legenden wie Jimi Hendrix\, B.B. King und Stevie Ray Vaughan beeinflusst. Seine Virtuosität als Bluesgitarrist wurde von Jeff Beck als „sehr aufregend und intensiv“ beschrieben. Schon mit 16 Jahren traf Lopez auf Billy Gibbons\, der ihn bis heute mentorisch begleitet. Geboren in Shreveport\, Louisiana\, verlagerte Lopez seinen Lebensmittelpunkt nach Dallas und später nach New Orleans. Bereits mit 14 Jahren war er ein professioneller Musiker\, der in den Bars des French Quarter von New Orleans auftrat. Nach Tourneen mit Johnnie Taylor und Lucky Peterson wurde Lopez zum Gitarristen des Buddy Miles Express. \nSeine musikalische Reise führte ihn durch Europa\, wo er Größen wie Steve Vai und Jeff Beck unterstützte. Anerkennung erhielt er auch durch Auszeichnungen wie den „Blues Band of the Year Award“ bei den Dallas Music Awards. In den folgenden Jahren gründete er die Band of Trouble und veröffentlichte Alben wie Simplify Your Vision und Higher Ground. \nNach intensiven Tourneen durch Europa von 2008 bis 2011 unterzeichnete Lopez einen Vertrag mit MIG Music / String Commander in Deutschland. Das Album Salvation from Sundown wurde 2010 veröffentlicht und im Texas-Blues-Stil arrangiert\, was Jeff Beck erneut zu Lob veranlasste. 2012 entstand das sechste Album Handmade Music in den Ardent Studios in Memphis. Lopez war auch Mitbegründer der Supersonic Blues Machine mit Kenny Aronoff und Fabrizio Grossi. Ihr Debütalbum wurde von Musikgrößen wie Billy Gibbons und Eric Gales unterstützt. \nTrotz persönlicher Herausforderungen\, darunter der Kampf gegen Alkoholismus und Drogensucht\, setzt Lopez seine künstlerische Reise fort. Sein neuestes Album Trouble Is Good wurde im Juli 2023 bei Cleopatra Records veröffentlicht und festigt seine Position als eine der herausragenden Persönlichkeiten im Bluesrock. \nLance Lopez: Gitarre\, Gesang\nJorgen Carlsson: Bass\nJohn Hummel: Schlagzeug
URL:https://www.reigen.at/event/lance-lopez/
LOCATION:REIGEN LIVE\, Hadikgasse 62\, Wien\, 1140\, Österreich
ATTACH;FMTTYPE=image/jpeg:https://www.reigen.at/wp-content/uploads/2024/05/Lance-Lopez.jpeg
END:VEVENT
END:VCALENDAR