BEGIN:VCALENDAR
VERSION:2.0
PRODID:-//reigen.at - ECPv6.0.12//NONSGML v1.0//EN
CALSCALE:GREGORIAN
METHOD:PUBLISH
X-WR-CALNAME:reigen.at
X-ORIGINAL-URL:https://www.reigen.at
X-WR-CALDESC:Veranstaltungen für reigen.at
REFRESH-INTERVAL;VALUE=DURATION:PT1H
X-Robots-Tag:noindex
X-PUBLISHED-TTL:PT1H
BEGIN:VTIMEZONE
TZID:Europe/Berlin
BEGIN:DAYLIGHT
TZOFFSETFROM:+0100
TZOFFSETTO:+0200
TZNAME:CEST
DTSTART:20240331T010000
END:DAYLIGHT
BEGIN:STANDARD
TZOFFSETFROM:+0200
TZOFFSETTO:+0100
TZNAME:CET
DTSTART:20241027T010000
END:STANDARD
END:VTIMEZONE
BEGIN:VEVENT
DTSTART;TZID=Europe/Berlin:20241108T203000
DTEND;TZID=Europe/Berlin:20241108T233000
DTSTAMP:20260420T114449
CREATED:20240418T204250Z
LAST-MODIFIED:20240803T215242Z
UID:3431-1731097800-1731108600@www.reigen.at
SUMMARY:12th Edition Roots Music from Southern Africa
DESCRIPTION:Vienna Jazzfloor 2024 \nIZETHEKELI BAND (Zimbabwe\,Senegal and Austria)\nDie Izethekeli Band bietet dem Publikum eine elektrisierende\, erfrischende Mischung aus Afro-Fusion\, Imbube\, Folkmusik und verlockenden Tanz-Rhythmen. Diese musikalischen Botschafter knistern vor Energie und feiern das Leben und die afrikanische Lebensphilosophie des‚ Ubuntu’ („Ich bin\, weil wir sind“) mit einer modernen\nNeuinterpretation der Acapella-Gesänge\, der Rhythmen und den Tänzen ihrer Ahnen. Das Mikrofon brennt. Die Tanzfläche bebt. Stillstehen ist da unmöglich. Diese Band ist live ein Erlebnis. Egal welcher Wochentag es ist\, bei dieser Band fühlt sich jeder Tag wie ein Feiertag an. In diesem Sinne: Hingehen\,  mitreißen lassen und genießen. \nVUSA MKHAYA (Zimbabwe)Presents South Meets West\, ADAMA DICKO AND MAMADOU DIABATE.\nDie Gewinner des Willi Resetarits-Preises 2024 präsentieren ein spezielles Projekt für Roots Music of Southern Africa 2024. Das Projekt mit dem Titel: \,\,South meets West” ist eine Hommage an Musik aus dem Südlichen Afrika und West Afrika mit dem Balafon-Maestro Mamadou Diabate und Sehen-Melodien von Adama Dicko\, beide aus Burkina Faso. Machen Sie sich bereit für einen atemberaubenden Abend voller Melodien\,Rhythmen und Grooves aus dem Mutterland. \n 
URL:https://www.reigen.at/event/12th-edition-roots-music/
LOCATION:REIGEN LIVE\, Hadikgasse 62\, Wien\, 1140\, Österreich
ATTACH;FMTTYPE=image/jpeg:https://www.reigen.at/wp-content/uploads/2024/04/roots-music.jpg
END:VEVENT
END:VCALENDAR