BEGIN:VCALENDAR
VERSION:2.0
PRODID:-//reigen.at - ECPv6.0.12//NONSGML v1.0//EN
CALSCALE:GREGORIAN
METHOD:PUBLISH
X-WR-CALNAME:reigen.at
X-ORIGINAL-URL:https://www.reigen.at
X-WR-CALDESC:Veranstaltungen für reigen.at
REFRESH-INTERVAL;VALUE=DURATION:PT1H
X-Robots-Tag:noindex
X-PUBLISHED-TTL:PT1H
BEGIN:VTIMEZONE
TZID:Europe/Berlin
BEGIN:DAYLIGHT
TZOFFSETFROM:+0100
TZOFFSETTO:+0200
TZNAME:CEST
DTSTART:20240331T010000
END:DAYLIGHT
BEGIN:STANDARD
TZOFFSETFROM:+0200
TZOFFSETTO:+0100
TZNAME:CET
DTSTART:20241027T010000
END:STANDARD
END:VTIMEZONE
BEGIN:VEVENT
DTSTART;TZID=Europe/Berlin:20241109T203000
DTEND;TZID=Europe/Berlin:20241109T233000
DTSTAMP:20260420T114710
CREATED:20240302T113343Z
LAST-MODIFIED:20241105T162744Z
UID:3291-1731184200-1731195000@www.reigen.at
SUMMARY:Atomic Rooster support: Black Banjo
DESCRIPTION:Vienna Jazzfloor 2024 \nIm Sommer 1969 mussten The Crazy World of Arthur Brown ihre Tournee mitten auf ihrer zweiten US-Tournee wegen der Geisteskrankheit des Keyboarders Vincent Crane abbrechen. Als er sich erholte\, wagten er und Schlagzeuger Carl Palmer den Schritt\, Arthur Brown zu verlassen und nach England zurückzukehren.\nEs war das Jahr des Hahns im chinesischen Kalender und vereinbarte ein Treffen mit Brian Jones\, um eine Zusammenarbeit zu besprechen. Nach Jones‘ Tod nahmen sie den Namen Atomic Rooster an (mit Einfluss der US-Band Rhinoceros) und rekrutierten bald Nick Graham für Bass und Gesang. Sie folgten mit dem Arrangement aus Gesang\, Orgel\, Bass und Schlagzeug\, das einst aus „The Crazy World of Arthur Brown“ stammte.\n1971 tourte die Besetzung von Atomic Rooster mit Pete French am Gesang\, Steve Bolton an der Gitarre\, Ric Parnell am Schlagzeug und Vincent Crane am Keyboard durch Italien\, dann durch Amerika und Kanada. Diese Besetzung beendete ihre internationale Tournee mit einem Auftritt bei einem Benefizkonzert im September 1971 auf dem Oval Cricket Ground\, bei dem sie vor etwa 65.000 Menschen auftraten und The Faces und The Who unterstützten. \nAtomic Rooster Current Lineup: \nSteve Bolton – guitar / vocals\nAdrian Gautry – keyboards/ vocals\nShug Millidge – bass\nPaul Everett – drums\n\nBericht Kronenzeitung: https://www.krone.at/3153469 \n  \n \n \n  \n 
URL:https://www.reigen.at/event/atomic-rooster-2/
LOCATION:REIGEN LIVE\, Hadikgasse 62\, Wien\, 1140\, Österreich
ATTACH;FMTTYPE=image/jpeg:https://www.reigen.at/wp-content/uploads/2023/06/atomic-rooster.jpg
END:VEVENT
END:VCALENDAR