BEGIN:VCALENDAR
VERSION:2.0
PRODID:-//reigen.at - ECPv6.0.12//NONSGML v1.0//EN
CALSCALE:GREGORIAN
METHOD:PUBLISH
X-WR-CALNAME:reigen.at
X-ORIGINAL-URL:https://www.reigen.at
X-WR-CALDESC:Veranstaltungen für reigen.at
REFRESH-INTERVAL;VALUE=DURATION:PT1H
X-Robots-Tag:noindex
X-PUBLISHED-TTL:PT1H
BEGIN:VTIMEZONE
TZID:Europe/Berlin
BEGIN:DAYLIGHT
TZOFFSETFROM:+0100
TZOFFSETTO:+0200
TZNAME:CEST
DTSTART:20240331T010000
END:DAYLIGHT
BEGIN:STANDARD
TZOFFSETFROM:+0200
TZOFFSETTO:+0100
TZNAME:CET
DTSTART:20241027T010000
END:STANDARD
END:VTIMEZONE
BEGIN:VEVENT
DTSTART;TZID=Europe/Berlin:20241112T203000
DTEND;TZID=Europe/Berlin:20241112T233000
DTSTAMP:20260420T124937
CREATED:20240110T154104Z
LAST-MODIFIED:20241020T095636Z
UID:2819-1731443400-1731454200@www.reigen.at
SUMMARY:Ron Minis Trio
DESCRIPTION:Vienna Jazzfloor 2024 \nRon Minis ist ein Multiinstrumentalist\, der mit virtuosen und rhythmischen Pattern zum Träumen und Tanzen zugleich einlädt. Mit seinem Jazz-Trio bewegt er sich zwischen lyrischen Phrasen und energetischen Rhythmen. Seine Songs sind von einer Vielfältigkeit kaum zu übertreffen. Ron Minis kreiert musikalische Welten voller Emotionen\, verführt mit sanften Melodien am Klavier\, wechselt unvermittelt in hämmernde Staccati und endet in sphärischen Klangwelten ohne dabei denn Spannungsbogen seiner Songs zu verlieren. Nicht ohne Grund lässt er sich von Genregrenzen nicht beeindrucken\, nennt im gleichen Atemzug aber auch „Brutal-Jazz“ als Heimat seiner Musik. Wenn er während der Konzerte zur E-Gitarre greift und der Übergang zum\, über einen zweiten Gitarren-Amp\, verzerrten Flügel verschwimmt\, wird klar\, was er damit meint.\nDoch die Nah-Östliche Kultur Israels oder der Einfluss von Künstlern wie Tigran Hamasyan lassen Genre-Gedanken gleich wieder verschwinden….\nBei seinen Kompositionen bedient sich der charismatische Musiker an den zahlreichen Erfahrungen\, die er im Laufe seiner Musikerkarriere bereits\ngemacht hat. Während Ron Minis seit seinem sechsten Lebensjahr klassisch als Pianist ausgebildet wurde\, erweiterte er sein Arsenal fortlaufend durch\nMusikstudien\, seine Leidenschaft für mechanische und elektronische Basteleien\, sowie um Schlagzeugspiel und E-Gitarre. \nFlügel\, FX und E-Gitarre – Ron Minis\nSchlagzeug – Yogev Gabay\nKontrabass – Bar Filipowicz \n  \n \n 
URL:https://www.reigen.at/event/ron-minis-trio/
LOCATION:REIGEN LIVE\, Hadikgasse 62\, Wien\, 1140\, Österreich
ATTACH;FMTTYPE=image/jpeg:https://www.reigen.at/wp-content/uploads/2024/01/Ron-Minis.jpg
END:VEVENT
END:VCALENDAR