BEGIN:VCALENDAR
VERSION:2.0
PRODID:-//reigen.at - ECPv6.0.12//NONSGML v1.0//EN
CALSCALE:GREGORIAN
METHOD:PUBLISH
X-WR-CALNAME:reigen.at
X-ORIGINAL-URL:https://www.reigen.at
X-WR-CALDESC:Veranstaltungen für reigen.at
REFRESH-INTERVAL;VALUE=DURATION:PT1H
X-Robots-Tag:noindex
X-PUBLISHED-TTL:PT1H
BEGIN:VTIMEZONE
TZID:Europe/Berlin
BEGIN:DAYLIGHT
TZOFFSETFROM:+0100
TZOFFSETTO:+0200
TZNAME:CEST
DTSTART:20240331T010000
END:DAYLIGHT
BEGIN:STANDARD
TZOFFSETFROM:+0200
TZOFFSETTO:+0100
TZNAME:CET
DTSTART:20241027T010000
END:STANDARD
END:VTIMEZONE
BEGIN:VEVENT
DTSTART;TZID=Europe/Berlin:20241113T203000
DTEND;TZID=Europe/Berlin:20241113T233000
DTSTAMP:20260420T130412
CREATED:20240131T233953Z
LAST-MODIFIED:20241103T134714Z
UID:3074-1731529800-1731540600@www.reigen.at
SUMMARY:Luke Winslow-King & Roberto Luti
DESCRIPTION:Vienna Jazzfloor 2024 \nOriginally from Cadillac\, Michigan\, Luke Winslow-King is a career rock & roll guitarist\, singer\, producer\, and songwriter. Having spent more than 15 years in New Orleans\, and recording his 2008 album (Old/New Baby) at Preservation Hall\, he was named ‘Best Blues Artist’ by Gambit Magazine in 2016. His 2018 hit\, ‚I’m Glad Trouble Don’t Last Always‘ has 10 million streams on Spotify and charted in Billboard top 10 blues albums. He was named a voting member of the Grammy Recording Academy in 2022\, and is now living in Calatayud\, Spain. Luke Winslow-King continues to pursue his global quest; delivering honest\, powerful\, rustic\, and authentic roots music by stage and recording alike. Winslow-King’s eighth full-length album Flash-A-Magic is slated for release in May of 2024. \nTuscan slide guitar maestro Roberto Luti’s unorthodox\, angular\, and evocative slide guitar style is based on Mississippi and Chicago blues and is influenced by soul and African roots. \n  \n \n \n 
URL:https://www.reigen.at/event/luke-winslow-king-roberto-luti/
LOCATION:REIGEN LIVE\, Hadikgasse 62\, Wien\, 1140\, Österreich
ATTACH;FMTTYPE=image/jpeg:https://www.reigen.at/wp-content/uploads/2024/02/LWK-SOLO.jpg
END:VEVENT
END:VCALENDAR