BEGIN:VCALENDAR
VERSION:2.0
PRODID:-//reigen.at - ECPv6.0.12//NONSGML v1.0//EN
CALSCALE:GREGORIAN
METHOD:PUBLISH
X-ORIGINAL-URL:https://www.reigen.at
X-WR-CALDESC:Veranstaltungen für reigen.at
REFRESH-INTERVAL;VALUE=DURATION:PT1H
X-Robots-Tag:noindex
X-PUBLISHED-TTL:PT1H
BEGIN:VTIMEZONE
TZID:Europe/Berlin
BEGIN:DAYLIGHT
TZOFFSETFROM:+0100
TZOFFSETTO:+0200
TZNAME:CEST
DTSTART:20240331T010000
END:DAYLIGHT
BEGIN:STANDARD
TZOFFSETFROM:+0200
TZOFFSETTO:+0100
TZNAME:CET
DTSTART:20241027T010000
END:STANDARD
END:VTIMEZONE
BEGIN:VEVENT
DTSTART;TZID=Europe/Berlin:20241116T203000
DTEND;TZID=Europe/Berlin:20241116T233000
DTSTAMP:20260420T121439
CREATED:20240531T142927Z
LAST-MODIFIED:20240531T142927Z
UID:3600-1731789000-1731799800@www.reigen.at
SUMMARY:Privatveranstaltung
DESCRIPTION:
URL:https://www.reigen.at/event/privatveranstaltung-6/
LOCATION:REIGEN LIVE\, Hadikgasse 62\, Wien\, 1140\, Österreich
END:VEVENT
END:VCALENDAR