BEGIN:VCALENDAR
VERSION:2.0
PRODID:-//reigen.at - ECPv6.0.12//NONSGML v1.0//EN
CALSCALE:GREGORIAN
METHOD:PUBLISH
X-ORIGINAL-URL:https://www.reigen.at
X-WR-CALDESC:Veranstaltungen für reigen.at
REFRESH-INTERVAL;VALUE=DURATION:PT1H
X-Robots-Tag:noindex
X-PUBLISHED-TTL:PT1H
BEGIN:VTIMEZONE
TZID:Europe/Berlin
BEGIN:DAYLIGHT
TZOFFSETFROM:+0100
TZOFFSETTO:+0200
TZNAME:CEST
DTSTART:20240331T010000
END:DAYLIGHT
BEGIN:STANDARD
TZOFFSETFROM:+0200
TZOFFSETTO:+0100
TZNAME:CET
DTSTART:20241027T010000
END:STANDARD
END:VTIMEZONE
BEGIN:VEVENT
DTSTART;TZID=Europe/Berlin:20241121T203000
DTEND;TZID=Europe/Berlin:20241121T233000
DTSTAMP:20260420T114901
CREATED:20240325T083245Z
LAST-MODIFIED:20241117T120415Z
UID:3359-1732221000-1732231800@www.reigen.at
SUMMARY:Elevation Project: Trio - Pat Metheny to Esbjörn Svensson
DESCRIPTION:Vienna Jazzfloor 2024 \nBeim Elevation Project vereinen sich junge aufstrebende Musiker der Jazzszene Österreichs und Sloweniens mit der Idee und dem Verlangen Jazz zu spielen\, der vom gängigen älteren Jazzverständnis abweicht: modernen Jazz\, der emotional und melodiös ist\, auch für ungeübte Ohren.\n„Das gegenwärtiges Projekt ist eine Symbiose aus Stücken von Pat Metheny und Esbjörn Svensson in dem wir Verwandtschaft und Kontrast der beiden liebevoll auf die Probe stellen. “ \nBesetzungsänderung: Am Bass wird im Reigen David Dollinger zu hören sein. \n  \n  \n \n  \n 
URL:https://www.reigen.at/event/3359/
LOCATION:REIGEN LIVE\, Hadikgasse 62\, Wien\, 1140\, Österreich
ATTACH;FMTTYPE=image/png:https://www.reigen.at/wp-content/uploads/2024/03/Elevation-Project_Trio.png
END:VEVENT
END:VCALENDAR